BEGIN:VCALENDAR
VERSION:2.0
PRODID:-//InvisionCommunity Events 4.7.23//EN
METHOD:PUBLISH
CALSCALE:GREGORIAN
REFRESH-INTERVAL:PT15M
X-PUBLISHED-TTL:PT15M
X-WR-CALNAME:At My TV
NAME:At My TV
BEGIN:VTIMEZONE
TZID:Europe/London
TZURL:http://tzurl.org/zoneinfo/Europe/London
X-LIC-LOCATION:Europe/London
BEGIN:DAYLIGHT
TZOFFSETFROM:+0000
TZOFFSETTO:+0100
TZNAME:BST
DTSTART:20220327T020000Z
RRULE:FREQ=YEARLY;BYMONTH=3;BYDAY=-1SU
END:DAYLIGHT
BEGIN:STANDARD
TZOFFSETFROM:+0100
TZOFFSETTO:+0000
TZNAME:GMT
DTSTART:20221030T020000Z
RRULE:FREQ=YEARLY;BYMONTH=10;BYDAY=-1SU
END:STANDARD
END:VTIMEZONE
BEGIN:VEVENT
SUMMARY:Real Time with Bill Maher 20x21 - Chris Cuomo\, JohnMcWhorte
	r\, Sam Stein
DTSTAMP:20220716T083605Z
SEQUENCE:0
UID:146396-2-841ebed20eb198c4569419e99b7bf40a@themidnightzone.com
ORGANIZER;CN="Midnight":midnight@themidnightzone.com
DESCRIPTION:This week features a one-on-one interview with Chris Cuomo\,
	host of the new podcast \"The Chris Cuomo Project.\" This week'spanel disc
	ussion will include John McWhorter\, associateprofessor at Columbia Univer
	sity\, New York Times newsletteropinion writer\, and host of the podcast 
	\"Lexicon Valley\"\;and Sam Stein\, White House editor for Politico and M
	SNBCcontributor. 
DTSTART:20220730T020000Z
DTEND:20220730T030000Z
END:VEVENT
END:VCALENDAR
