BEGIN:VCALENDAR
VERSION:2.0
PRODID:-//InvisionCommunity Events 4.7.23//EN
METHOD:PUBLISH
CALSCALE:GREGORIAN
REFRESH-INTERVAL:PT15M
X-PUBLISHED-TTL:PT15M
X-WR-CALNAME:At My TV
NAME:At My TV
BEGIN:VTIMEZONE
TZID:Europe/London
TZURL:http://tzurl.org/zoneinfo/Europe/London
X-LIC-LOCATION:Europe/London
BEGIN:DAYLIGHT
TZOFFSETFROM:+0000
TZOFFSETTO:+0100
TZNAME:BST
DTSTART:20220327T020000Z
RRULE:FREQ=YEARLY;BYMONTH=3;BYDAY=-1SU
END:DAYLIGHT
BEGIN:STANDARD
TZOFFSETFROM:+0100
TZOFFSETTO:+0000
TZNAME:GMT
DTSTART:20221030T020000Z
RRULE:FREQ=YEARLY;BYMONTH=10;BYDAY=-1SU
END:STANDARD
END:VTIMEZONE
BEGIN:VEVENT
SUMMARY:Guy's Grocery Games 30x7 - Guy's Summer Games 3
DTSTAMP:20220716T083605Z
SEQUENCE:0
UID:146411-2-841ebed20eb198c4569419e99b7bf40a@themidnightzone.com
ORGANIZER;CN="Midnight":midnight@themidnightzone.com
DESCRIPTION:It's fun in the park for the six remaining summer tournament
	chefs! Guy Fieri asks the chefs to partner up and create teampicnic plates
	\, with each teammate first shopping a differenthalf of the store using pi
	cnic baskets. The top-ranked teamsplits \,000\, but the members of the bot
	tom team must gohead-to-head in a bodacious burger battle\, featuring pick
	ledingredients they score in a GGG version of pickle ball. Onechef will be
	 eliminated\, and the remaining chefs will stay inthe running to become th
	e summer champ and win \,000!
DTSTART:20220721T010000Z
DTEND:20220721T020000Z
END:VEVENT
END:VCALENDAR
