BEGIN:VCALENDAR
VERSION:2.0
PRODID:-//InvisionCommunity Events 4.7.23//EN
METHOD:PUBLISH
CALSCALE:GREGORIAN
REFRESH-INTERVAL:PT15M
X-PUBLISHED-TTL:PT15M
X-WR-CALNAME:At My TV
NAME:At My TV
BEGIN:VTIMEZONE
TZID:Europe/London
TZURL:http://tzurl.org/zoneinfo/Europe/London
X-LIC-LOCATION:Europe/London
BEGIN:DAYLIGHT
TZOFFSETFROM:+0000
TZOFFSETTO:+0100
TZNAME:BST
DTSTART:20220327T020000Z
RRULE:FREQ=YEARLY;BYMONTH=3;BYDAY=-1SU
END:DAYLIGHT
BEGIN:STANDARD
TZOFFSETFROM:+0100
TZOFFSETTO:+0000
TZNAME:GMT
DTSTART:20221030T020000Z
RRULE:FREQ=YEARLY;BYMONTH=10;BYDAY=-1SU
END:STANDARD
END:VTIMEZONE
BEGIN:VEVENT
SUMMARY:8 out of 10 Cats Does Countdown 23x1 - Lucy Beaumont\, Richa
	rdAyoade\, Joe Wilkinson\, Finlay Christie
DTSTAMP:20220717T083606Z
SEQUENCE:0
UID:146433-2-841ebed20eb198c4569419e99b7bf40a@themidnightzone.com
ORGANIZER;CN="Midnight":midnight@themidnightzone.com
DESCRIPTION:Jimmy Carr hosts a combination of the comedy panel show and 
	thelong-running words-and-numbers quiz\, with Jon Richardson andLucy Beaum
	ont taking on Richard Ayoade and Joe Wilkinson.Regular Countdown mathemati
	cian Rachel Riley and lexicographerSusie Dent are on hand to adjudicate\, 
	alongside DictionaryCorner guest Finlay Christie.
DTSTART:20220729T200000Z
DTEND:20220729T210000Z
END:VEVENT
END:VCALENDAR
