BEGIN:VCALENDAR
VERSION:2.0
PRODID:-//InvisionCommunity Events 4.7.23//EN
METHOD:PUBLISH
CALSCALE:GREGORIAN
REFRESH-INTERVAL:PT15M
X-PUBLISHED-TTL:PT15M
X-WR-CALNAME:At My TV
NAME:At My TV
BEGIN:VTIMEZONE
TZID:Europe/London
TZURL:http://tzurl.org/zoneinfo/Europe/London
X-LIC-LOCATION:Europe/London
BEGIN:DAYLIGHT
TZOFFSETFROM:+0000
TZOFFSETTO:+0100
TZNAME:BST
DTSTART:20220327T020000Z
RRULE:FREQ=YEARLY;BYMONTH=3;BYDAY=-1SU
END:DAYLIGHT
BEGIN:STANDARD
TZOFFSETFROM:+0100
TZOFFSETTO:+0000
TZNAME:GMT
DTSTART:20221030T020000Z
RRULE:FREQ=YEARLY;BYMONTH=10;BYDAY=-1SU
END:STANDARD
END:VTIMEZONE
BEGIN:VEVENT
SUMMARY:Alex vs America 2x2 - Alex vs Brunch
DTSTAMP:20220718T083604Z
SEQUENCE:0
UID:146469-2-841ebed20eb198c4569419e99b7bf40a@themidnightzone.com
ORGANIZER;CN="Midnight":midnight@themidnightzone.com
DESCRIPTION:Host Eric Adjepong welcomes three talented brunch experts fr
	omNew Hampshire\, California and Arizona to challenge Chef AlexGuarnaschel
	li in two intense rounds of cooking. In round one\,the chefs seal their fa
	te by choosing the ingredients everyonewill be challenged to cook with. Ju
	dges Adrienne Cheatham andBrooke Williamson eliminate one chef before roun
	d two\, wheretaking first place could win a chef \,000\, but only if theyc
	an defeat Chef Alex.
DTSTART:20220801T020000Z
DTEND:20220801T030000Z
END:VEVENT
END:VCALENDAR
