BEGIN:VCALENDAR
VERSION:2.0
PRODID:-//InvisionCommunity Events 4.7.23//EN
METHOD:PUBLISH
CALSCALE:GREGORIAN
REFRESH-INTERVAL:PT15M
X-PUBLISHED-TTL:PT15M
X-WR-CALNAME:At My TV
NAME:At My TV
BEGIN:VTIMEZONE
TZID:Europe/London
TZURL:http://tzurl.org/zoneinfo/Europe/London
X-LIC-LOCATION:Europe/London
BEGIN:DAYLIGHT
TZOFFSETFROM:+0000
TZOFFSETTO:+0100
TZNAME:BST
DTSTART:20220327T020000Z
RRULE:FREQ=YEARLY;BYMONTH=3;BYDAY=-1SU
END:DAYLIGHT
BEGIN:STANDARD
TZOFFSETFROM:+0100
TZOFFSETTO:+0000
TZNAME:GMT
DTSTART:20221030T020000Z
RRULE:FREQ=YEARLY;BYMONTH=10;BYDAY=-1SU
END:STANDARD
END:VTIMEZONE
BEGIN:VEVENT
SUMMARY:So You Think You Can Dance 17x11 - The Final Cut
DTSTAMP:20220721T083602Z
SEQUENCE:0
UID:146583-2-841ebed20eb198c4569419e99b7bf40a@themidnightzone.com
ORGANIZER;CN="Midnight":midnight@themidnightzone.com
DESCRIPTION:The remaining contestants hit the stage performing two uniqu
	enumbers before they head to the finals\, first dancing togetherin pairs a
	nd then matched with one of the series' belovedAll-Stars: Kiki Nyemchek\, 
	Audrey Case or Robert Green. Findout who will move forward to the season f
	inale\, when they'llbe given one last chance to prove they are \"America's
	 FavoriteDancer\".
DTSTART:20220804T010100Z
DTEND:20220804T020100Z
END:VEVENT
END:VCALENDAR
