BEGIN:VCALENDAR
VERSION:2.0
PRODID:-//InvisionCommunity Events 4.7.23//EN
METHOD:PUBLISH
CALSCALE:GREGORIAN
REFRESH-INTERVAL:PT15M
X-PUBLISHED-TTL:PT15M
X-WR-CALNAME:At My TV
NAME:At My TV
BEGIN:VTIMEZONE
TZID:Europe/London
TZURL:http://tzurl.org/zoneinfo/Europe/London
X-LIC-LOCATION:Europe/London
BEGIN:DAYLIGHT
TZOFFSETFROM:+0000
TZOFFSETTO:+0100
TZNAME:BST
DTSTART:20220327T020000Z
RRULE:FREQ=YEARLY;BYMONTH=3;BYDAY=-1SU
END:DAYLIGHT
BEGIN:STANDARD
TZOFFSETFROM:+0100
TZOFFSETTO:+0000
TZNAME:GMT
DTSTART:20221030T020000Z
RRULE:FREQ=YEARLY;BYMONTH=10;BYDAY=-1SU
END:STANDARD
END:VTIMEZONE
BEGIN:VEVENT
SUMMARY:Guy's Grocery Games 30x8 - Guy's Summer Games 4
DTSTAMP:20220721T083602Z
SEQUENCE:0
UID:146596-2-841ebed20eb198c4569419e99b7bf40a@themidnightzone.com
ORGANIZER;CN="Midnight":midnight@themidnightzone.com
DESCRIPTION:Guy Fieri invites the five remaining chefs on a summer getaw
	ayas they use flavors from around the world courtesy ofinternational sampl
	e tables to make the best grilled meat dishfor a \,000 prize. In round two
	\, the bottom two chefs take aroad trip to a family fun zone to play midwa
	y games thathandicap their handheld dishes. One chef will be eliminated\,a
	nd the remaining chefs will stay in the running to become thesummer champ 
	and win \,000!
DTSTART:20220728T010000Z
DTEND:20220728T020000Z
END:VEVENT
END:VCALENDAR
