BEGIN:VCALENDAR
VERSION:2.0
PRODID:-//InvisionCommunity Events 4.7.23//EN
METHOD:PUBLISH
CALSCALE:GREGORIAN
REFRESH-INTERVAL:PT15M
X-PUBLISHED-TTL:PT15M
X-WR-CALNAME:At My TV
NAME:At My TV
BEGIN:VTIMEZONE
TZID:Europe/London
TZURL:http://tzurl.org/zoneinfo/Europe/London
X-LIC-LOCATION:Europe/London
BEGIN:DAYLIGHT
TZOFFSETFROM:+0000
TZOFFSETTO:+0100
TZNAME:BST
DTSTART:20220327T020000Z
RRULE:FREQ=YEARLY;BYMONTH=3;BYDAY=-1SU
END:DAYLIGHT
BEGIN:STANDARD
TZOFFSETFROM:+0100
TZOFFSETTO:+0000
TZNAME:GMT
DTSTART:20221030T020000Z
RRULE:FREQ=YEARLY;BYMONTH=10;BYDAY=-1SU
END:STANDARD
END:VTIMEZONE
BEGIN:VEVENT
SUMMARY:Modern Marvels 23x13 - Bathroom Tech Plus
DTSTAMP:20220726T083601Z
SEQUENCE:0
UID:146782-2-841ebed20eb198c4569419e99b7bf40a@themidnightzone.com
ORGANIZER;CN="Midnight":midnight@themidnightzone.com
DESCRIPTION:Get ready for a royal flush as Modern Marvels looks at thela
	test and greatest in bathroom technology. From the ultimatecomputerized sh
	ower experience to toilets that cleanthemselves\, getting dirty has never 
	been so much fun. It'severything you ever wanted to know about how the bat
	hroomevolved into one of the most beloved\, and expensive\, rooms inthe ho
	use.
DTSTART:20220816T030500Z
DTEND:20220816T040500Z
END:VEVENT
END:VCALENDAR
