BEGIN:VCALENDAR
VERSION:2.0
PRODID:-//InvisionCommunity Events 4.7.23//EN
METHOD:PUBLISH
CALSCALE:GREGORIAN
REFRESH-INTERVAL:PT15M
X-PUBLISHED-TTL:PT15M
X-WR-CALNAME:At My TV
NAME:At My TV
BEGIN:VTIMEZONE
TZID:Europe/London
TZURL:http://tzurl.org/zoneinfo/Europe/London
X-LIC-LOCATION:Europe/London
BEGIN:DAYLIGHT
TZOFFSETFROM:+0000
TZOFFSETTO:+0100
TZNAME:BST
DTSTART:20220327T020000Z
RRULE:FREQ=YEARLY;BYMONTH=3;BYDAY=-1SU
END:DAYLIGHT
BEGIN:STANDARD
TZOFFSETFROM:+0100
TZOFFSETTO:+0000
TZNAME:GMT
DTSTART:20221030T020000Z
RRULE:FREQ=YEARLY;BYMONTH=10;BYDAY=-1SU
END:STANDARD
END:VTIMEZONE
BEGIN:VEVENT
SUMMARY:Police Interceptors 21x5 - Episode 5
DTSTAMP:20220727T083600Z
SEQUENCE:0
UID:146832-2-841ebed20eb198c4569419e99b7bf40a@themidnightzone.com
ORGANIZER;CN="Midnight":midnight@themidnightzone.com
DESCRIPTION:This all-action episode begins with reports of suspected lor
	rylooters at a service station in Trowell\, and firearms cops Jimand Lewis
	 race to intercept. They arrive to find the stockseemingly abandoned\, whe
	n nearby a figure bursts from theshadows and legs it into the undergrowth.
	 Dog detectives takethe lead on containment\, and it's down to police dog 
	Morse andhis canine comrade Reno to sniff out the bad guys. Jon and Dansto
	p a road rage suspect who has allegedly racially abusedanother driver and 
	threatened them with an axe. The blokeevidently has an axe to grind with t
	he interceptors\, too\, andthis charming encounter unearths more than just
	 a weapon.Déjà vu strikes\, as the knife crime team nick a familiarface 
	with a load of suspected cannabis in his mum's motor. Thelad claims he use
	s the stash to whip up cannabis cakes andshakes — so much so the team th
	ink he could have set up shop.Meanwhile\, there's another reunion in store
	 for Lewis. Oneyear on from a siege in suburbia\, where a man fired animit
	ation pistol towards armed cops\, he's made more threatstowards police and
	 the hunt is on to lock him up. Finally\,having the windows down on a hot 
	summer's day has Matt and Leefollowing their noses to weed out their next 
	job. High speed\,high drama and one hell of a ride. Buckle up for an all-n
	ewepisode of Police Interceptors.
DTSTART:20220810T190000Z
DTEND:20220810T195800Z
END:VEVENT
END:VCALENDAR
