BEGIN:VCALENDAR
VERSION:2.0
PRODID:-//InvisionCommunity Events 4.7.23//EN
METHOD:PUBLISH
CALSCALE:GREGORIAN
REFRESH-INTERVAL:PT15M
X-PUBLISHED-TTL:PT15M
X-WR-CALNAME:At My TV
NAME:At My TV
BEGIN:VTIMEZONE
TZID:Europe/London
TZURL:http://tzurl.org/zoneinfo/Europe/London
X-LIC-LOCATION:Europe/London
BEGIN:DAYLIGHT
TZOFFSETFROM:+0000
TZOFFSETTO:+0100
TZNAME:BST
DTSTART:20220327T020000Z
RRULE:FREQ=YEARLY;BYMONTH=3;BYDAY=-1SU
END:DAYLIGHT
BEGIN:STANDARD
TZOFFSETFROM:+0100
TZOFFSETTO:+0000
TZNAME:GMT
DTSTART:20221030T020000Z
RRULE:FREQ=YEARLY;BYMONTH=10;BYDAY=-1SU
END:STANDARD
END:VTIMEZONE
BEGIN:VEVENT
SUMMARY:Masters of Illusion 8x14 - Up Close and Personal
DTSTAMP:20220731T083558Z
SEQUENCE:0
UID:147038-2-841ebed20eb198c4569419e99b7bf40a@themidnightzone.com
ORGANIZER;CN="Midnight":midnight@themidnightzone.com
DESCRIPTION:Hosted by Dean Cain\, \"Masters of Illusion\" features amazi
	ngmagic performed by cutting-edge illusionists\, escape artistsand perform
	ers displaying skills ranging from perplexinginteractive mind magic to hil
	arious comedy routines - all infront of a studio audience. Magicians featu
	red in this episodeinclude Ed Alonzo\, Chris Funk\, Joel Meyers\, Diego Ch
	avez\,Tetro\, Johnny Ace Palmer\, Bill Cook and Krysten Lambert.
DTSTART:20220814T010000Z
DTEND:20220814T013000Z
END:VEVENT
END:VCALENDAR
