BEGIN:VCALENDAR
VERSION:2.0
PRODID:-//InvisionCommunity Events 4.7.23//EN
METHOD:PUBLISH
CALSCALE:GREGORIAN
REFRESH-INTERVAL:PT15M
X-PUBLISHED-TTL:PT15M
X-WR-CALNAME:At My TV
NAME:At My TV
BEGIN:VTIMEZONE
TZID:Europe/London
TZURL:http://tzurl.org/zoneinfo/Europe/London
X-LIC-LOCATION:Europe/London
BEGIN:DAYLIGHT
TZOFFSETFROM:+0000
TZOFFSETTO:+0100
TZNAME:BST
DTSTART:20220327T020000Z
RRULE:FREQ=YEARLY;BYMONTH=3;BYDAY=-1SU
END:DAYLIGHT
BEGIN:STANDARD
TZOFFSETFROM:+0100
TZOFFSETTO:+0000
TZNAME:GMT
DTSTART:20221030T020000Z
RRULE:FREQ=YEARLY;BYMONTH=10;BYDAY=-1SU
END:STANDARD
END:VTIMEZONE
BEGIN:VEVENT
SUMMARY:City on a Hill 3x3 - Speak When You're Angry
DTSTAMP:20220801T083557Z
SEQUENCE:0
UID:147100-2-841ebed20eb198c4569419e99b7bf40a@themidnightzone.com
ORGANIZER;CN="Midnight":midnight@themidnightzone.com
DESCRIPTION:Vying to become Boston's next DA\, Decourcy takes on a murky
	case involving a murdered police officer. He recruits the helpof Caysen\, 
	who is becoming increasingly alienated from theofficers in his unit. As th
	e Drydens try to solve theirVictoria problem\, the Rohrs drop Benedetta of
	f for herfreshman year at NYU. They return empty nesters but to no peacean
	d quiet. When Siobhan receives a distressing phone call\, adark secret res
	urfaces. 
DTSTART:20220815T020000Z
DTEND:20220815T030000Z
END:VEVENT
END:VCALENDAR
