BEGIN:VCALENDAR
VERSION:2.0
PRODID:-//InvisionCommunity Events 4.7.23//EN
METHOD:PUBLISH
CALSCALE:GREGORIAN
REFRESH-INTERVAL:PT15M
X-PUBLISHED-TTL:PT15M
X-WR-CALNAME:At My TV
NAME:At My TV
BEGIN:VTIMEZONE
TZID:Europe/London
TZURL:http://tzurl.org/zoneinfo/Europe/London
X-LIC-LOCATION:Europe/London
BEGIN:DAYLIGHT
TZOFFSETFROM:+0000
TZOFFSETTO:+0100
TZNAME:BST
DTSTART:20220327T020000Z
RRULE:FREQ=YEARLY;BYMONTH=3;BYDAY=-1SU
END:DAYLIGHT
BEGIN:STANDARD
TZOFFSETFROM:+0100
TZOFFSETTO:+0000
TZNAME:GMT
DTSTART:20221030T020000Z
RRULE:FREQ=YEARLY;BYMONTH=10;BYDAY=-1SU
END:STANDARD
END:VTIMEZONE
BEGIN:VEVENT
SUMMARY:Secret Celebrity Renovation 2x4 - Annaleigh Ashford
DTSTAMP:20220806T083555Z
SEQUENCE:0
UID:147341-2-841ebed20eb198c4569419e99b7bf40a@themidnightzone.com
ORGANIZER;CN="Midnight":midnight@themidnightzone.com
DESCRIPTION:Tony(R) Award Winner Annaleigh Ashford returns to her childh
	oodhome in Denver to give her recently retired mother\, Holli\,the home re
	novation of her dreams. After years of makingAnnaleigh's ambitions her pri
	ority\, Annaleigh gets to give hermother (and father) an unforgettable gif
	t with a brand-newliving room\, dining room\, kitchen and TV room\, equipp
	ed withan entertainment center and custom-built bar. While taking abreak f
	rom renovating\, Annaleigh receives an emotionalsurprise as well\, a visit
	 from the cast of \"Ruthless\,\" thevery first show she performed in.
DTSTART:20220820T000000Z
DTEND:20220820T010000Z
END:VEVENT
END:VCALENDAR
