BEGIN:VCALENDAR
VERSION:2.0
PRODID:-//InvisionCommunity Events 4.7.23//EN
METHOD:PUBLISH
CALSCALE:GREGORIAN
REFRESH-INTERVAL:PT15M
X-PUBLISHED-TTL:PT15M
X-WR-CALNAME:At My TV
NAME:At My TV
BEGIN:VTIMEZONE
TZID:Europe/London
TZURL:http://tzurl.org/zoneinfo/Europe/London
X-LIC-LOCATION:Europe/London
BEGIN:DAYLIGHT
TZOFFSETFROM:+0000
TZOFFSETTO:+0100
TZNAME:BST
DTSTART:20220327T020000Z
RRULE:FREQ=YEARLY;BYMONTH=3;BYDAY=-1SU
END:DAYLIGHT
BEGIN:STANDARD
TZOFFSETFROM:+0100
TZOFFSETTO:+0000
TZNAME:GMT
DTSTART:20221030T020000Z
RRULE:FREQ=YEARLY;BYMONTH=10;BYDAY=-1SU
END:STANDARD
END:VTIMEZONE
BEGIN:VEVENT
SUMMARY:United Shades of America 7x7 - Hawaii for Hawaiians
DTSTAMP:20220808T083554Z
SEQUENCE:0
UID:147400-2-841ebed20eb198c4569419e99b7bf40a@themidnightzone.com
ORGANIZER;CN="Midnight":midnight@themidnightzone.com
DESCRIPTION:The word aloha has come to define Hawaiian hospitality: awar
	m\, open-armed welcome. But on his second trip to Hawaii\,W. Kamau Bell le
	arns how that word has been commodified andcorrupted to benefit transplant
	s and how an exploitativetourism industry has left local Hawaiians protest
	ing to gettheir jobs back\, competing with tourists for space in thewater 
	and struggling for housing. Bell will explore how Hawaiican sustain its to
	urism economy while supporting localHawaiians.
DTSTART:20220822T020000Z
DTEND:20220822T030000Z
END:VEVENT
END:VCALENDAR
