BEGIN:VCALENDAR
VERSION:2.0
PRODID:-//InvisionCommunity Events 4.7.23//EN
METHOD:PUBLISH
CALSCALE:GREGORIAN
REFRESH-INTERVAL:PT15M
X-PUBLISHED-TTL:PT15M
X-WR-CALNAME:At My TV
NAME:At My TV
BEGIN:VTIMEZONE
TZID:Europe/London
TZURL:http://tzurl.org/zoneinfo/Europe/London
X-LIC-LOCATION:Europe/London
BEGIN:DAYLIGHT
TZOFFSETFROM:+0000
TZOFFSETTO:+0100
TZNAME:BST
DTSTART:20220327T020000Z
RRULE:FREQ=YEARLY;BYMONTH=3;BYDAY=-1SU
END:DAYLIGHT
BEGIN:STANDARD
TZOFFSETFROM:+0100
TZOFFSETTO:+0000
TZNAME:GMT
DTSTART:20221030T020000Z
RRULE:FREQ=YEARLY;BYMONTH=10;BYDAY=-1SU
END:STANDARD
END:VTIMEZONE
BEGIN:VEVENT
SUMMARY:First Dates 19x6 - Episode 6
DTSTAMP:20220818T083549Z
SEQUENCE:0
UID:147829-2-841ebed20eb198c4569419e99b7bf40a@themidnightzone.com
ORGANIZER;CN="Midnight":midnight@themidnightzone.com
DESCRIPTION:Thirty four-year-old Dan\, a construction manager from Essex
	putting a broken engagement behind him. He is partnered with35-year-old Je
	ss\, a personal trainer whose love life is inneed of a good workout. Twent
	y-five-year-old Emily from Leedsboasts a master's degree in law. Her date 
	is rom-com-lovingYorkshire lad Ryan. Carpet salesman Nathan\, 28\, has bee
	nround the block and back again in his home town of Burnley. Buthe is here
	 to turn over a new leaf. His date is retailassistant Chloe\, 23\, a Lanca
	shire woman who hates a pushoverand is looking for a man to challenge her.
DTSTART:20220825T210000Z
DTEND:20220825T220500Z
END:VEVENT
END:VCALENDAR
