BEGIN:VCALENDAR
VERSION:2.0
PRODID:-//InvisionCommunity Events 4.7.23//EN
METHOD:PUBLISH
CALSCALE:GREGORIAN
REFRESH-INTERVAL:PT15M
X-PUBLISHED-TTL:PT15M
X-WR-CALNAME:At My TV
NAME:At My TV
BEGIN:VTIMEZONE
TZID:Europe/London
TZURL:http://tzurl.org/zoneinfo/Europe/London
X-LIC-LOCATION:Europe/London
BEGIN:DAYLIGHT
TZOFFSETFROM:+0000
TZOFFSETTO:+0100
TZNAME:BST
DTSTART:20220327T020000Z
RRULE:FREQ=YEARLY;BYMONTH=3;BYDAY=-1SU
END:DAYLIGHT
BEGIN:STANDARD
TZOFFSETFROM:+0100
TZOFFSETTO:+0000
TZNAME:GMT
DTSTART:20221030T020000Z
RRULE:FREQ=YEARLY;BYMONTH=10;BYDAY=-1SU
END:STANDARD
END:VTIMEZONE
BEGIN:VEVENT
SUMMARY:Police Interceptors 21x8 - Episode 8
DTSTAMP:20220819T083548Z
SEQUENCE:0
UID:147883-2-841ebed20eb198c4569419e99b7bf40a@themidnightzone.com
ORGANIZER;CN="Midnight":midnight@themidnightzone.com
DESCRIPTION:Dog handler Chris finds himself on the tail of a runawayRena
	ult Clio\, while Rob and Dan receive intel that aresidential home is emitt
	ing a familiar aroma of marijuana.Meanwhile\, the Knife Crime Team head ou
	t in force to thenorthern suburbs\, where they suspect a drug-deal is abou
	t tohappen. After a highly co-ordinated operation\, the team smokeout the 
	suspected main dealer and a search turns up almost 100wraps of Class A's d
	own his pants.
DTSTART:20220831T190000Z
DTEND:20220831T195800Z
END:VEVENT
END:VCALENDAR
