BEGIN:VCALENDAR
VERSION:2.0
PRODID:-//InvisionCommunity Events 4.7.23//EN
METHOD:PUBLISH
CALSCALE:GREGORIAN
REFRESH-INTERVAL:PT15M
X-PUBLISHED-TTL:PT15M
X-WR-CALNAME:At My TV
NAME:At My TV
BEGIN:VTIMEZONE
TZID:Europe/London
TZURL:http://tzurl.org/zoneinfo/Europe/London
X-LIC-LOCATION:Europe/London
BEGIN:DAYLIGHT
TZOFFSETFROM:+0000
TZOFFSETTO:+0100
TZNAME:BST
DTSTART:20220327T020000Z
RRULE:FREQ=YEARLY;BYMONTH=3;BYDAY=-1SU
END:DAYLIGHT
BEGIN:STANDARD
TZOFFSETFROM:+0100
TZOFFSETTO:+0000
TZNAME:GMT
DTSTART:20221030T020000Z
RRULE:FREQ=YEARLY;BYMONTH=10;BYDAY=-1SU
END:STANDARD
END:VTIMEZONE
BEGIN:VEVENT
SUMMARY:First Dates Hotel 7x1 - Episode 1
DTSTAMP:20220828T083543Z
SEQUENCE:0
UID:148246-2-841ebed20eb198c4569419e99b7bf40a@themidnightzone.com
ORGANIZER;CN="Midnight":midnight@themidnightzone.com
DESCRIPTION:Maitre-d Fred Sirieix returns to take over a luxury hotel\,w
	here his team of matchmakers welcome more singletons. Thefirst edition fea
	tures former military paramedic Gareth fromsouth Wales\, who feels as thou
	gh everybody already knows eachother\, and has found dating very tricky. I
	nto the restaurantwalks Carys\, whom he was previously matched with on a d
	atingapp. As the evening progresses\, it looks possible that fatehas broug
	ht together two lonely hearts who would otherwisenever have got past the s
	wiping stage.
DTSTART:20220906T200000Z
DTEND:20220906T210000Z
END:VEVENT
END:VCALENDAR
