BEGIN:VCALENDAR
VERSION:2.0
PRODID:-//InvisionCommunity Events 4.7.23//EN
METHOD:PUBLISH
CALSCALE:GREGORIAN
REFRESH-INTERVAL:PT15M
X-PUBLISHED-TTL:PT15M
X-WR-CALNAME:Pogdesign
NAME:Pogdesign
BEGIN:VTIMEZONE
TZID:Europe/London
TZURL:http://tzurl.org/zoneinfo/Europe/London
X-LIC-LOCATION:Europe/London
BEGIN:DAYLIGHT
TZOFFSETFROM:+0000
TZOFFSETTO:+0100
TZNAME:BST
DTSTART:20220327T020000Z
RRULE:FREQ=YEARLY;BYMONTH=3;BYDAY=-1SU
END:DAYLIGHT
BEGIN:STANDARD
TZOFFSETFROM:+0100
TZOFFSETTO:+0000
TZNAME:GMT
DTSTART:20221030T020000Z
RRULE:FREQ=YEARLY;BYMONTH=10;BYDAY=-1SU
END:STANDARD
END:VTIMEZONE
BEGIN:VEVENT
SUMMARY:Industry 2x7 - Lone Wolf and Cub
DTSTAMP:20220830T044003Z
SEQUENCE:0
UID:148294-3-841ebed20eb198c4569419e99b7bf40a@themidnightzone.com
ORGANIZER;CN="Midnight":midnight@themidnightzone.com
DESCRIPTION:After receiving confirmation that the London office will mer
	gewith New York\, Harper\, Eric\, and Rishi team up to pitchtheir small gl
	obal force to rival banks. Just as Yasmin readiesherself for her first cli
	ent meeting in her new role\, shebecomes engulfed in a pressing issue at P
	ierpoint. Meanwhile\,Gus leverages an opportunity for Leo.
DTSTART:20220912T220000Z
DTEND:20220912T230000Z
END:VEVENT
END:VCALENDAR
