BEGIN:VCALENDAR
VERSION:2.0
PRODID:-//InvisionCommunity Events 4.7.23//EN
METHOD:PUBLISH
CALSCALE:GREGORIAN
REFRESH-INTERVAL:PT15M
X-PUBLISHED-TTL:PT15M
X-WR-CALNAME:Pogdesign
NAME:Pogdesign
BEGIN:VTIMEZONE
TZID:Europe/London
TZURL:http://tzurl.org/zoneinfo/Europe/London
X-LIC-LOCATION:Europe/London
BEGIN:DAYLIGHT
TZOFFSETFROM:+0000
TZOFFSETTO:+0100
TZNAME:BST
DTSTART:20220327T020000Z
RRULE:FREQ=YEARLY;BYMONTH=3;BYDAY=-1SU
END:DAYLIGHT
BEGIN:STANDARD
TZOFFSETFROM:+0100
TZOFFSETTO:+0000
TZNAME:GMT
DTSTART:20221030T020000Z
RRULE:FREQ=YEARLY;BYMONTH=10;BYDAY=-1SU
END:STANDARD
END:VTIMEZONE
BEGIN:VEVENT
SUMMARY:The Grand Tour 4x5 - A Scandi Flick
DTSTAMP:20220903T044003Z
SEQUENCE:0
UID:148496-3-841ebed20eb198c4569419e99b7bf40a@themidnightzone.com
ORGANIZER;CN="Midnight":midnight@themidnightzone.com
DESCRIPTION:Jeremy\, Richard and James head for the icy wastes of theSca
	ndinavian Arctic Circle. At the wheel of their threefavourite rally cars t
	he boys embark on a catastrophe-filledadventure that takes in Cold War sub
	marine bases - frozen lakeracetracks\, crashes and ski resort chaos as the
	y drag theirhomemade houses from the coast of Norway to the Russian Border
	.
DTSTART:20220916T235900Z
DTEND:20220917T005900Z
END:VEVENT
END:VCALENDAR
