BEGIN:VCALENDAR
VERSION:2.0
PRODID:-//InvisionCommunity Events 4.7.23//EN
METHOD:PUBLISH
CALSCALE:GREGORIAN
REFRESH-INTERVAL:PT15M
X-PUBLISHED-TTL:PT15M
X-WR-CALNAME:Pogdesign
NAME:Pogdesign
BEGIN:VTIMEZONE
TZID:Europe/London
TZURL:http://tzurl.org/zoneinfo/Europe/London
X-LIC-LOCATION:Europe/London
BEGIN:DAYLIGHT
TZOFFSETFROM:+0000
TZOFFSETTO:+0100
TZNAME:BST
DTSTART:20220327T020000Z
RRULE:FREQ=YEARLY;BYMONTH=3;BYDAY=-1SU
END:DAYLIGHT
BEGIN:STANDARD
TZOFFSETFROM:+0100
TZOFFSETTO:+0000
TZNAME:GMT
DTSTART:20221030T020000Z
RRULE:FREQ=YEARLY;BYMONTH=10;BYDAY=-1SU
END:STANDARD
END:VTIMEZONE
BEGIN:VEVENT
SUMMARY:The Cleaning Lady 2x1 - Sins of the Father
DTSTAMP:20220906T044004Z
SEQUENCE:0
UID:148644-3-841ebed20eb198c4569419e99b7bf40a@themidnightzone.com
ORGANIZER;CN="Midnight":midnight@themidnightzone.com
DESCRIPTION:Season Two picks up with Thony desperately trying to find he
	rson\, Luca\, after he was kidnapped by his father Marco. Withnowhere else
	 to turn\, she enlists the help of FBI AgentGarrett Miller to track him do
	wn before they leave the country.Meanwhile\, an incident involving Chris f
	orces Fiona to shieldher son by any means necessary.
DTSTART:20220919T210000Z
DTEND:20220919T220000Z
END:VEVENT
END:VCALENDAR
