BEGIN:VCALENDAR
VERSION:2.0
PRODID:-//InvisionCommunity Events 4.7.23//EN
METHOD:PUBLISH
CALSCALE:GREGORIAN
REFRESH-INTERVAL:PT15M
X-PUBLISHED-TTL:PT15M
X-WR-CALNAME:Pogdesign
NAME:Pogdesign
BEGIN:VTIMEZONE
TZID:Europe/London
TZURL:http://tzurl.org/zoneinfo/Europe/London
X-LIC-LOCATION:Europe/London
BEGIN:DAYLIGHT
TZOFFSETFROM:+0000
TZOFFSETTO:+0100
TZNAME:BST
DTSTART:20220327T020000Z
RRULE:FREQ=YEARLY;BYMONTH=3;BYDAY=-1SU
END:DAYLIGHT
BEGIN:STANDARD
TZOFFSETFROM:+0100
TZOFFSETTO:+0000
TZNAME:GMT
DTSTART:20221030T020000Z
RRULE:FREQ=YEARLY;BYMONTH=10;BYDAY=-1SU
END:STANDARD
END:VTIMEZONE
BEGIN:VEVENT
SUMMARY:Big Sky 3x1 - Do You Love An Apple
DTSTAMP:20220908T044004Z
SEQUENCE:0
UID:148761-3-841ebed20eb198c4569419e99b7bf40a@themidnightzone.com
ORGANIZER;CN="Midnight":midnight@themidnightzone.com
DESCRIPTION:It's been a few months of relative peace in Helena\, but all
	that's about to change when Sunny Barnes and her family set upSunny Day Ex
	cursions just outside of town. From the moment theyarrive\, things begin t
	o go awry\, with Cassie being called into investigate a missing backpacker
	 and the new sheriff intown\, Beau\, partnering up with Jenny to track dow
	n a murdereron the loose.
DTSTART:20220921T220000Z
DTEND:20220921T230000Z
END:VEVENT
END:VCALENDAR
