BEGIN:VCALENDAR
VERSION:2.0
PRODID:-//InvisionCommunity Events 4.7.23//EN
METHOD:PUBLISH
CALSCALE:GREGORIAN
REFRESH-INTERVAL:PT15M
X-PUBLISHED-TTL:PT15M
X-WR-CALNAME:At My TV
NAME:At My TV
BEGIN:VTIMEZONE
TZID:Europe/London
TZURL:http://tzurl.org/zoneinfo/Europe/London
X-LIC-LOCATION:Europe/London
BEGIN:DAYLIGHT
TZOFFSETFROM:+0000
TZOFFSETTO:+0100
TZNAME:BST
DTSTART:20220327T020000Z
RRULE:FREQ=YEARLY;BYMONTH=3;BYDAY=-1SU
END:DAYLIGHT
BEGIN:STANDARD
TZOFFSETFROM:+0100
TZOFFSETTO:+0000
TZNAME:GMT
DTSTART:20221030T020000Z
RRULE:FREQ=YEARLY;BYMONTH=10;BYDAY=-1SU
END:STANDARD
END:VTIMEZONE
BEGIN:VEVENT
SUMMARY:City on a Hill 3x8 - Whipping Post
DTSTAMP:20220912T083536Z
SEQUENCE:0
UID:148982-2-841ebed20eb198c4569419e99b7bf40a@themidnightzone.com
ORGANIZER;CN="Midnight":midnight@themidnightzone.com
DESCRIPTION:As Decourcy prepares to take Sinclair Dryden to trial\, desp
	itepushback from the Suffolk County DA\, Jackie tracks down a keywitness. 
	Siobhan reaches a settlement on behalf of the Mendozafamily\, but her mome
	nt in the spotlight is cut short. Caysenis offered a second chance by a lo
	ved one. Reckoning with therifts in her own family\, Jenny meets her long-
	losthalf-brother.
DTSTART:20220926T020000Z
DTEND:20220926T030000Z
END:VEVENT
END:VCALENDAR
