BEGIN:VCALENDAR
VERSION:2.0
PRODID:-//InvisionCommunity Events 4.7.23//EN
METHOD:PUBLISH
CALSCALE:GREGORIAN
REFRESH-INTERVAL:PT15M
X-PUBLISHED-TTL:PT15M
X-WR-CALNAME:At My TV
NAME:At My TV
BEGIN:VTIMEZONE
TZID:Europe/London
TZURL:http://tzurl.org/zoneinfo/Europe/London
X-LIC-LOCATION:Europe/London
BEGIN:DAYLIGHT
TZOFFSETFROM:+0000
TZOFFSETTO:+0100
TZNAME:BST
DTSTART:20220327T020000Z
RRULE:FREQ=YEARLY;BYMONTH=3;BYDAY=-1SU
END:DAYLIGHT
BEGIN:STANDARD
TZOFFSETFROM:+0100
TZOFFSETTO:+0000
TZNAME:GMT
DTSTART:20221030T020000Z
RRULE:FREQ=YEARLY;BYMONTH=10;BYDAY=-1SU
END:STANDARD
END:VTIMEZONE
BEGIN:VEVENT
SUMMARY:Call Me Kat 3x1 - Call Me Ken Jennings
DTSTAMP:20220916T083533Z
SEQUENCE:0
UID:149251-2-841ebed20eb198c4569419e99b7bf40a@themidnightzone.com
ORGANIZER;CN="Midnight":midnight@themidnightzone.com
DESCRIPTION:After taking some time to travel and decompress\, Kat is on 
	herway back to Louisville when she is upgraded to first class andseated ne
	xt to \"Jeopardy!'s\" winningest contestant\, KenJennings\, on her flight 
	home. Upon arrival\, she discoverssome significant changes have been made 
	to the cafe by Randiand Phil\, and Randi's passion for her job is now stra
	ining herrelationship with Carter. Max has returned home from his timein N
	ashville pursuing his music career\, with cowboy boots anda big ego to go 
	along with them.
DTSTART:20220930T013000Z
DTEND:20220930T020000Z
END:VEVENT
END:VCALENDAR
