BEGIN:VCALENDAR
VERSION:2.0
PRODID:-//InvisionCommunity Events 4.7.23//EN
METHOD:PUBLISH
CALSCALE:GREGORIAN
REFRESH-INTERVAL:PT15M
X-PUBLISHED-TTL:PT15M
X-WR-CALNAME:Pogdesign
NAME:Pogdesign
BEGIN:VTIMEZONE
TZID:Europe/London
TZURL:http://tzurl.org/zoneinfo/Europe/London
X-LIC-LOCATION:Europe/London
BEGIN:DAYLIGHT
TZOFFSETFROM:+0000
TZOFFSETTO:+0100
TZNAME:BST
DTSTART:20220327T020000Z
RRULE:FREQ=YEARLY;BYMONTH=3;BYDAY=-1SU
END:DAYLIGHT
BEGIN:STANDARD
TZOFFSETFROM:+0100
TZOFFSETTO:+0000
TZNAME:GMT
DTSTART:20221030T020000Z
RRULE:FREQ=YEARLY;BYMONTH=10;BYDAY=-1SU
END:STANDARD
END:VTIMEZONE
BEGIN:VEVENT
SUMMARY:All Creatures Great and Small S03E04 - \nWhat a Balls Up!
DTSTAMP:20220922T044004Z
SEQUENCE:0
UID:149566-3-841ebed20eb198c4569419e99b7bf40a@themidnightzone.com
ORGANIZER;CN="Midnight":midnight@themidnightzone.com
DESCRIPTION:James is finally succeeding with the farmers' uptake of theM
	inistry of Agriculture's TB testing scheme\, but is strugglingwith the com
	plicated paperwork - a fact that he is keen to keepfrom Siegfried. Tristan
	 decides that he is outgrowing runningthe small animal surgery and buys a 
	car to help with errands atthe practice\, which also provides him with tra
	nsport fortaking Florence\, the daughter of Siegfried's rival\, GeorgePand
	hi\, out on a date.
DTSTART:20221006T170000Z
DTEND:20221006T180000Z
END:VEVENT
END:VCALENDAR
