BEGIN:VCALENDAR
VERSION:2.0
PRODID:-//InvisionCommunity Events 4.7.23//EN
METHOD:PUBLISH
CALSCALE:GREGORIAN
REFRESH-INTERVAL:PT15M
X-PUBLISHED-TTL:PT15M
X-WR-CALNAME:Pogdesign
NAME:Pogdesign
BEGIN:VTIMEZONE
TZID:Europe/London
TZURL:http://tzurl.org/zoneinfo/Europe/London
X-LIC-LOCATION:Europe/London
BEGIN:DAYLIGHT
TZOFFSETFROM:+0000
TZOFFSETTO:+0100
TZNAME:BST
DTSTART:20220327T020000Z
RRULE:FREQ=YEARLY;BYMONTH=3;BYDAY=-1SU
END:DAYLIGHT
BEGIN:STANDARD
TZOFFSETFROM:+0100
TZOFFSETTO:+0000
TZNAME:GMT
DTSTART:20221030T020000Z
RRULE:FREQ=YEARLY;BYMONTH=10;BYDAY=-1SU
END:STANDARD
END:VTIMEZONE
BEGIN:VEVENT
SUMMARY:Walker Independence S01E01 - \nPilot
DTSTAMP:20220923T044004Z
SEQUENCE:0
UID:149655-3-841ebed20eb198c4569419e99b7bf40a@themidnightzone.com
ORGANIZER;CN="Midnight":midnight@themidnightzone.com
DESCRIPTION:Abby Walker\, an affluent and tough-minded Bostonian\, embar
	kson a journey out west with her husband Liam\, when her husbandis murdere
	d before her eyes. After crossing paths with Calian\,a curious Apache trac
	ker\, Abby arrives in the town ofIndependence\, Texas\, where she encounte
	rs diverse andeclectic residents running from their pasts\, chasing theird
	reams\, and keeping their own secrets. Abby also literallyruns into Hoyt R
	awlins\, a slippery rogue\, thief and conartist with a dented heart of gol
	d who quickly eyes Abby as amark\, until she turns the tables on him. In s
	eeking justicefor her husband\, Abby encounters Independence's noble deput
	ysheriff\, Augustus\, and his new boss\, Sheriff Tom Davidson\,who she has
	 reason to believe is a very bad man indeed. Abbyand Hoyt soon find themse
	lves precariously aligned\, bothseeking to uncover the truth about the ide
	ntity of Abby'shusband's killer\, and vow to save Independence - a frontie
	rboomtown where nothing is what it seems.
DTSTART:20221006T210000Z
DTEND:20221006T220000Z
END:VEVENT
END:VCALENDAR
