BEGIN:VCALENDAR
VERSION:2.0
PRODID:-//InvisionCommunity Events 4.7.23//EN
METHOD:PUBLISH
CALSCALE:GREGORIAN
REFRESH-INTERVAL:PT15M
X-PUBLISHED-TTL:PT15M
X-WR-CALNAME:At My TV
NAME:At My TV
BEGIN:VTIMEZONE
TZID:Europe/London
TZURL:http://tzurl.org/zoneinfo/Europe/London
X-LIC-LOCATION:Europe/London
BEGIN:DAYLIGHT
TZOFFSETFROM:+0000
TZOFFSETTO:+0100
TZNAME:BST
DTSTART:20220327T020000Z
RRULE:FREQ=YEARLY;BYMONTH=3;BYDAY=-1SU
END:DAYLIGHT
BEGIN:STANDARD
TZOFFSETFROM:+0100
TZOFFSETTO:+0000
TZNAME:GMT
DTSTART:20221030T020000Z
RRULE:FREQ=YEARLY;BYMONTH=10;BYDAY=-1SU
END:STANDARD
END:VTIMEZONE
BEGIN:VEVENT
SUMMARY:NOVA 49x18 - Computer v. Crime
DTSTAMP:20220929T083527Z
SEQUENCE:0
UID:150070-2-841ebed20eb198c4569419e99b7bf40a@themidnightzone.com
ORGANIZER;CN="Midnight":midnight@themidnightzone.com
DESCRIPTION:In police departments and courts across the country\,artific
	ial intelligence is being used to help decide who ispoliced\, who gets bai
	l\, how offenders should be sentenced\,and who gets parole. But is it actu
	ally making our lawenforcement and court systems fairer and more just? Thi
	s timelyinvestigation digs into the hidden biases\, privacy risks\, anddes
	ign flaws of this controversial technology.
DTSTART:20221013T010000Z
DTEND:20221013T020000Z
END:VEVENT
END:VCALENDAR
