BEGIN:VCALENDAR
VERSION:2.0
PRODID:-//InvisionCommunity Events 4.7.23//EN
METHOD:PUBLISH
CALSCALE:GREGORIAN
REFRESH-INTERVAL:PT15M
X-PUBLISHED-TTL:PT15M
X-WR-CALNAME:Pogdesign
NAME:Pogdesign
BEGIN:VTIMEZONE
TZID:Europe/London
TZURL:http://tzurl.org/zoneinfo/Europe/London
X-LIC-LOCATION:Europe/London
BEGIN:DAYLIGHT
TZOFFSETFROM:+0000
TZOFFSETTO:+0100
TZNAME:BST
DTSTART:20220327T020000Z
RRULE:FREQ=YEARLY;BYMONTH=3;BYDAY=-1SU
END:DAYLIGHT
BEGIN:STANDARD
TZOFFSETFROM:+0100
TZOFFSETTO:+0000
TZNAME:GMT
DTSTART:20221030T020000Z
RRULE:FREQ=YEARLY;BYMONTH=10;BYDAY=-1SU
END:STANDARD
END:VTIMEZONE
BEGIN:VEVENT
SUMMARY:The Good Doctor S06E03 - \nA Big Sign
DTSTAMP:20221004T044003Z
SEQUENCE:0
UID:150430-3-841ebed20eb198c4569419e99b7bf40a@themidnightzone.com
ORGANIZER;CN="Midnight":midnight@themidnightzone.com
DESCRIPTION:The team treats a famous marriage counselor after she injure
	sher ankle from falling\, but when she offers relationshipadvice to them\,
	 Dr. Morgan Reznick quickly spots that theirpatient might be experiencing 
	something far more serious.Meanwhile\, Dr. Audrey Lim is determined to get
	 to the bottomof what really happened in the OR during her surgery and set
	soff on her own internal investigation.
DTSTART:20221017T220000Z
DTEND:20221017T230000Z
END:VEVENT
END:VCALENDAR
