BEGIN:VCALENDAR
VERSION:2.0
PRODID:-//InvisionCommunity Events 4.7.23//EN
METHOD:PUBLISH
CALSCALE:GREGORIAN
REFRESH-INTERVAL:PT15M
X-PUBLISHED-TTL:PT15M
X-WR-CALNAME:Pogdesign
NAME:Pogdesign
BEGIN:VTIMEZONE
TZID:Europe/London
TZURL:http://tzurl.org/zoneinfo/Europe/London
X-LIC-LOCATION:Europe/London
BEGIN:DAYLIGHT
TZOFFSETFROM:+0000
TZOFFSETTO:+0100
TZNAME:BST
DTSTART:20220327T020000Z
RRULE:FREQ=YEARLY;BYMONTH=3;BYDAY=-1SU
END:DAYLIGHT
BEGIN:STANDARD
TZOFFSETFROM:+0100
TZOFFSETTO:+0000
TZNAME:GMT
DTSTART:20221030T020000Z
RRULE:FREQ=YEARLY;BYMONTH=10;BYDAY=-1SU
END:STANDARD
END:VTIMEZONE
BEGIN:VEVENT
SUMMARY:9-1-1 S06E05 - \nHome Invasion
DTSTAMP:20221004T044003Z
SEQUENCE:0
UID:150437-3-841ebed20eb198c4569419e99b7bf40a@themidnightzone.com
ORGANIZER;CN="Midnight":midnight@themidnightzone.com
DESCRIPTION:Athena investigates when the same house is hit with two home
	invasion 9-1-1 calls within hours of each other. The 118 raceto the rescue
	 when a D-I-Y home renovation traps a man in anattic. Hen asks for a secon
	d chance with her medical schoolprofessor. Maddie and Chimney regret hirin
	g a nanny for Jee-Yunafter the woman completely takes over their apartment
	.
DTSTART:20221017T200000Z
DTEND:20221017T210000Z
END:VEVENT
END:VCALENDAR
