BEGIN:VCALENDAR
VERSION:2.0
PRODID:-//InvisionCommunity Events 4.7.23//EN
METHOD:PUBLISH
CALSCALE:GREGORIAN
REFRESH-INTERVAL:PT15M
X-PUBLISHED-TTL:PT15M
X-WR-CALNAME:Pogdesign
NAME:Pogdesign
BEGIN:VTIMEZONE
TZID:Europe/London
TZURL:http://tzurl.org/zoneinfo/Europe/London
X-LIC-LOCATION:Europe/London
BEGIN:DAYLIGHT
TZOFFSETFROM:+0000
TZOFFSETTO:+0100
TZNAME:BST
DTSTART:20220327T020000Z
RRULE:FREQ=YEARLY;BYMONTH=3;BYDAY=-1SU
END:DAYLIGHT
BEGIN:STANDARD
TZOFFSETFROM:+0100
TZOFFSETTO:+0000
TZNAME:GMT
DTSTART:20221030T020000Z
RRULE:FREQ=YEARLY;BYMONTH=10;BYDAY=-1SU
END:STANDARD
END:VTIMEZONE
BEGIN:VEVENT
SUMMARY:Guy's Grocery Games S30E12 - \nSupermarket of Mischief
DTSTAMP:20221004T044003Z
SEQUENCE:0
UID:150461-3-841ebed20eb198c4569419e99b7bf40a@themidnightzone.com
ORGANIZER;CN="Midnight":midnight@themidnightzone.com
DESCRIPTION:Guy Fieri invites four GGG superfans to Flavortown Market fo
	r anight of twisted games and mischievous shenanigans! For thefirst round\
	, Guy serves up a whole grocery list of games forthe chefs to play while t
	hey cook up their signature dishes.Then the chefs face some of the judges'
	 most fearedingredients\, using them to make an epic dish. The superfanwit
	h the highest overall score will get the once-in-a-lifetimechance to shop 
	Flavortown for up to \,000!
DTSTART:20221005T210000Z
DTEND:20221005T213000Z
END:VEVENT
END:VCALENDAR
