BEGIN:VCALENDAR
VERSION:2.0
PRODID:-//InvisionCommunity Events 4.7.23//EN
METHOD:PUBLISH
CALSCALE:GREGORIAN
REFRESH-INTERVAL:PT15M
X-PUBLISHED-TTL:PT15M
X-WR-CALNAME:At My TV
NAME:At My TV
BEGIN:VTIMEZONE
TZID:Europe/London
TZURL:http://tzurl.org/zoneinfo/Europe/London
X-LIC-LOCATION:Europe/London
BEGIN:DAYLIGHT
TZOFFSETFROM:+0000
TZOFFSETTO:+0100
TZNAME:BST
DTSTART:20220327T020000Z
RRULE:FREQ=YEARLY;BYMONTH=3;BYDAY=-1SU
END:DAYLIGHT
BEGIN:STANDARD
TZOFFSETFROM:+0100
TZOFFSETTO:+0000
TZNAME:GMT
DTSTART:20221030T020000Z
RRULE:FREQ=YEARLY;BYMONTH=10;BYDAY=-1SU
END:STANDARD
END:VTIMEZONE
BEGIN:VEVENT
SUMMARY:Unsolved Mysteries 3x6 - What Happened to Josh?
DTSTAMP:20221011T083522Z
SEQUENCE:0
UID:150946-2-841ebed20eb198c4569419e99b7bf40a@themidnightzone.com
ORGANIZER;CN="Midnight":midnight@themidnightzone.com
DESCRIPTION:In 2002\, 20-year-old Joshua Guimond vanished after attendin
	g aparty on the campus of St. John's University in Minnesota.Despite massi
	ve searches\, no trace of Josh has ever beenfound. Law enforcement has rem
	ained baffled by Josh'smysterious disappearance until new evidence was rec
	entlydiscovered on his computer.
DTSTART:20221025T053200Z
DTEND:20221025T061800Z
END:VEVENT
END:VCALENDAR
