BEGIN:VCALENDAR
VERSION:2.0
PRODID:-//InvisionCommunity Events 4.7.23//EN
METHOD:PUBLISH
CALSCALE:GREGORIAN
REFRESH-INTERVAL:PT15M
X-PUBLISHED-TTL:PT15M
X-WR-CALNAME:At My TV
NAME:At My TV
BEGIN:VTIMEZONE
TZID:Europe/London
TZURL:http://tzurl.org/zoneinfo/Europe/London
X-LIC-LOCATION:Europe/London
BEGIN:DAYLIGHT
TZOFFSETFROM:+0000
TZOFFSETTO:+0100
TZNAME:BST
DTSTART:20220327T020000Z
RRULE:FREQ=YEARLY;BYMONTH=3;BYDAY=-1SU
END:DAYLIGHT
BEGIN:STANDARD
TZOFFSETFROM:+0100
TZOFFSETTO:+0000
TZNAME:GMT
DTSTART:20221030T020000Z
RRULE:FREQ=YEARLY;BYMONTH=10;BYDAY=-1SU
END:STANDARD
END:VTIMEZONE
BEGIN:VEVENT
SUMMARY:Finding Happy 1x6 - Finding The Surprise
DTSTAMP:20221011T083521Z
SEQUENCE:0
UID:150975-2-841ebed20eb198c4569419e99b7bf40a@themidnightzone.com
ORGANIZER;CN="Midnight":midnight@themidnightzone.com
DESCRIPTION:It's the annual family get-together. Yaz's father Raymond is
	 intown\, causing his new girlfriend Cassandra and ex-wife Marilynto face 
	off. Shawn surprises Yaz by showing up at her job wherehe jealously faces 
	off with Porter. Dexter bonds with co-workerBrandi\, while Jamila grapples
	 with unexpected news. When a newlove interest rejects Yaz's advances\, sh
	e risks backslidingromantically.
DTSTART:20221023T000000Z
DTEND:20221023T003000Z
END:VEVENT
END:VCALENDAR
