BEGIN:VCALENDAR
VERSION:2.0
PRODID:-//InvisionCommunity Events 4.7.23//EN
METHOD:PUBLISH
CALSCALE:GREGORIAN
REFRESH-INTERVAL:PT15M
X-PUBLISHED-TTL:PT15M
X-WR-CALNAME:At My TV
NAME:At My TV
BEGIN:VTIMEZONE
TZID:Europe/London
TZURL:http://tzurl.org/zoneinfo/Europe/London
X-LIC-LOCATION:Europe/London
BEGIN:DAYLIGHT
TZOFFSETFROM:+0000
TZOFFSETTO:+0100
TZNAME:BST
DTSTART:20220327T020000Z
RRULE:FREQ=YEARLY;BYMONTH=3;BYDAY=-1SU
END:DAYLIGHT
BEGIN:STANDARD
TZOFFSETFROM:+0100
TZOFFSETTO:+0000
TZNAME:GMT
DTSTART:20221030T020000Z
RRULE:FREQ=YEARLY;BYMONTH=10;BYDAY=-1SU
END:STANDARD
END:VTIMEZONE
BEGIN:VEVENT
SUMMARY:The Winchesters 1x3 - You're Lost Little Girl
DTSTAMP:20221012T083522Z
SEQUENCE:0
UID:151078-2-841ebed20eb198c4569419e99b7bf40a@themidnightzone.com
ORGANIZER;CN="Midnight":midnight@themidnightzone.com
DESCRIPTION:When Mary's next-door neighbor mysteriously goes missing\, s
	heand John start digging into the disappearance. During theirinvestigation
	\, John unexpectedly reunites with someone fromhis past. Carlos and Ada bo
	nd as they stakeout a potential leadfor the demon's partner. Meanwhile\, L
	atika taps into oldfolklore passed down from her family in hopes it helps.
DTSTART:20221026T000000Z
DTEND:20221026T010000Z
END:VEVENT
END:VCALENDAR
