BEGIN:VCALENDAR
VERSION:2.0
PRODID:-//InvisionCommunity Events 4.7.23//EN
METHOD:PUBLISH
CALSCALE:GREGORIAN
REFRESH-INTERVAL:PT15M
X-PUBLISHED-TTL:PT15M
X-WR-CALNAME:Pogdesign
NAME:Pogdesign
BEGIN:VTIMEZONE
TZID:Europe/London
TZURL:http://tzurl.org/zoneinfo/Europe/London
X-LIC-LOCATION:Europe/London
BEGIN:DAYLIGHT
TZOFFSETFROM:+0000
TZOFFSETTO:+0100
TZNAME:BST
DTSTART:20220327T020000Z
RRULE:FREQ=YEARLY;BYMONTH=3;BYDAY=-1SU
END:DAYLIGHT
BEGIN:STANDARD
TZOFFSETFROM:+0100
TZOFFSETTO:+0000
TZNAME:GMT
DTSTART:20221030T020000Z
RRULE:FREQ=YEARLY;BYMONTH=10;BYDAY=-1SU
END:STANDARD
END:VTIMEZONE
BEGIN:VEVENT
SUMMARY:The Mysterious Benedict Society S02E02 - \nA Bit of Light Ch
	op
DTSTAMP:20221013T044003Z
SEQUENCE:0
UID:151100-3-841ebed20eb198c4569419e99b7bf40a@themidnightzone.com
ORGANIZER;CN="Midnight":midnight@themidnightzone.com
DESCRIPTION:Stowaways aboard a majestic ship\, the kids must try to blen
	din and find the next clue. Hot on their tail\, Rhonda\,Milligan\, and Ms.
	 Perumal board a dirigible to catch up tothem. Mr. Benedict and Number Two
	 cannot hide their distrustfrom the eerily calm Curtain after observing th
	e unnervinglyjoyful behavior of his devotees and discovering that he isusi
	ng neurological techniques to create artificial happiness.Back at sea\, th
	e water polo team sneaks suspiciously towardsthe kids' stateroom...
DTSTART:20221026T235900Z
DTEND:20221027T005900Z
END:VEVENT
END:VCALENDAR
