BEGIN:VCALENDAR
VERSION:2.0
PRODID:-//InvisionCommunity Events 4.7.23//EN
METHOD:PUBLISH
CALSCALE:GREGORIAN
REFRESH-INTERVAL:PT15M
X-PUBLISHED-TTL:PT15M
X-WR-CALNAME:At My TV
NAME:At My TV
BEGIN:VTIMEZONE
TZID:Europe/London
TZURL:http://tzurl.org/zoneinfo/Europe/London
X-LIC-LOCATION:Europe/London
BEGIN:DAYLIGHT
TZOFFSETFROM:+0000
TZOFFSETTO:+0100
TZNAME:BST
DTSTART:20220327T020000Z
RRULE:FREQ=YEARLY;BYMONTH=3;BYDAY=-1SU
END:DAYLIGHT
BEGIN:STANDARD
TZOFFSETFROM:+0100
TZOFFSETTO:+0000
TZNAME:GMT
DTSTART:20221030T020000Z
RRULE:FREQ=YEARLY;BYMONTH=10;BYDAY=-1SU
END:STANDARD
END:VTIMEZONE
BEGIN:VEVENT
SUMMARY:Alaska Daily 1x4 - The Weekend
DTSTAMP:20221014T083520Z
SEQUENCE:0
UID:151244-2-841ebed20eb198c4569419e99b7bf40a@themidnightzone.com
ORGANIZER;CN="Midnight":midnight@themidnightzone.com
DESCRIPTION:It's the Alaska State Fair and The Daily Alaskan team iscove
	ring every angle of this beloved annual event\, includingGabriel who is ex
	cited for his first assigned story. When hisreporting leads him somewhere 
	unexpected\, he rises to theoccasion with Eileen's support. Meanwhile\, Ei
	leen and Roz havevery different weekends before reuniting to make more pro
	gresson their investigation.
DTSTART:20221028T020000Z
DTEND:20221028T030000Z
END:VEVENT
END:VCALENDAR
