BEGIN:VCALENDAR
VERSION:2.0
PRODID:-//InvisionCommunity Events 4.7.23//EN
METHOD:PUBLISH
CALSCALE:GREGORIAN
REFRESH-INTERVAL:PT15M
X-PUBLISHED-TTL:PT15M
X-WR-CALNAME:At My TV
NAME:At My TV
BEGIN:VTIMEZONE
TZID:Europe/London
TZURL:http://tzurl.org/zoneinfo/Europe/London
X-LIC-LOCATION:Europe/London
BEGIN:DAYLIGHT
TZOFFSETFROM:+0000
TZOFFSETTO:+0100
TZNAME:BST
DTSTART:20220327T020000Z
RRULE:FREQ=YEARLY;BYMONTH=3;BYDAY=-1SU
END:DAYLIGHT
BEGIN:STANDARD
TZOFFSETFROM:+0100
TZOFFSETTO:+0000
TZNAME:GMT
DTSTART:20221030T020000Z
RRULE:FREQ=YEARLY;BYMONTH=10;BYDAY=-1SU
END:STANDARD
END:VTIMEZONE
BEGIN:VEVENT
SUMMARY:Sherri 1x26 - John Lithgow\, Kim Coles\, Ariel Elias
DTSTAMP:20221015T083519Z
SEQUENCE:0
UID:151360-2-841ebed20eb198c4569419e99b7bf40a@themidnightzone.com
ORGANIZER;CN="Midnight":midnight@themidnightzone.com
DESCRIPTION:Sherri kicks off the week with her hilarious take on the lat
	estheadlines!Then\, actor John Lithgow stops by to discuss the oneman show
	 he's directing\, \"Everything's Fine.\"Plus\, actressand comedian Kim Col
	es sits down with Sherri to talk about thereboot of the VH1 series\, \"Sur
	real Life.\"Then\, comedian ArielElias speaks exclusively with Sherri abou
	t the video that wentviral after a heckler threw a beer can at her head.
DTSTART:20221017T140000Z
DTEND:20221017T150000Z
END:VEVENT
END:VCALENDAR
