BEGIN:VCALENDAR
VERSION:2.0
PRODID:-//InvisionCommunity Events 4.7.23//EN
METHOD:PUBLISH
CALSCALE:GREGORIAN
REFRESH-INTERVAL:PT15M
X-PUBLISHED-TTL:PT15M
X-WR-CALNAME:Pogdesign
NAME:Pogdesign
BEGIN:VTIMEZONE
TZID:Europe/London
TZURL:http://tzurl.org/zoneinfo/Europe/London
X-LIC-LOCATION:Europe/London
BEGIN:DAYLIGHT
TZOFFSETFROM:+0000
TZOFFSETTO:+0100
TZNAME:BST
DTSTART:20220327T020000Z
RRULE:FREQ=YEARLY;BYMONTH=3;BYDAY=-1SU
END:DAYLIGHT
BEGIN:STANDARD
TZOFFSETFROM:+0100
TZOFFSETTO:+0000
TZNAME:GMT
DTSTART:20221030T020000Z
RRULE:FREQ=YEARLY;BYMONTH=10;BYDAY=-1SU
END:STANDARD
END:VTIMEZONE
BEGIN:VEVENT
SUMMARY:New Amsterdam (2018) S05E07 - \nMaybe Tomorrow
DTSTAMP:20221019T044003Z
SEQUENCE:0
UID:151530-3-841ebed20eb198c4569419e99b7bf40a@themidnightzone.com
ORGANIZER;CN="Midnight":midnight@themidnightzone.com
DESCRIPTION:The New Amsterdam staff grapple with the aftermath of therec
	ent Supreme Court decision on abortion rights. Wildercounsels a woman whos
	e pregnancy puts her life in danger. AtBrantley's urging\, Max endeavors t
	o find a healthcare solutionfor out-of-state patients. Bloom reveals monum
	ental news toReynolds.
DTSTART:20221101T220000Z
DTEND:20221101T230000Z
END:VEVENT
END:VCALENDAR
