BEGIN:VCALENDAR
VERSION:2.0
PRODID:-//InvisionCommunity Events 4.7.23//EN
METHOD:PUBLISH
CALSCALE:GREGORIAN
REFRESH-INTERVAL:PT15M
X-PUBLISHED-TTL:PT15M
X-WR-CALNAME:Pogdesign
NAME:Pogdesign
BEGIN:VTIMEZONE
TZID:Europe/London
TZURL:http://tzurl.org/zoneinfo/Europe/London
X-LIC-LOCATION:Europe/London
BEGIN:DAYLIGHT
TZOFFSETFROM:+0000
TZOFFSETTO:+0100
TZNAME:BST
DTSTART:20220327T020000Z
RRULE:FREQ=YEARLY;BYMONTH=3;BYDAY=-1SU
END:DAYLIGHT
BEGIN:STANDARD
TZOFFSETFROM:+0100
TZOFFSETTO:+0000
TZNAME:GMT
DTSTART:20221030T020000Z
RRULE:FREQ=YEARLY;BYMONTH=10;BYDAY=-1SU
END:STANDARD
END:VTIMEZONE
BEGIN:VEVENT
SUMMARY:The Mysterious Benedict Society S02E03 - \nA Gold Bar in For
	tKnox
DTSTAMP:20221020T044003Z
SEQUENCE:0
UID:151572-3-841ebed20eb198c4569419e99b7bf40a@themidnightzone.com
ORGANIZER;CN="Midnight":midnight@themidnightzone.com
DESCRIPTION:After narrowly avoiding capture by the imposturous water pol
	oteam\, the kids try to stay hidden\, but are distracted by anunderground 
	casino. At Curtain's compound\, an acolyte is foundcompletely unresponsive
	\, suggesting a frightening symptom ofhis methodology\, while Number Two w
	orks on an intricate escapeplan. After negotiating with the Captain\, the 
	kids arrivesuccessfully in Lisbon\, but are immediately on the run againwh
	en Curtain's Head of Security spots them at the port ofentry.
DTSTART:20221102T235900Z
DTEND:20221103T005900Z
END:VEVENT
END:VCALENDAR
