BEGIN:VCALENDAR
VERSION:2.0
PRODID:-//InvisionCommunity Events 4.7.23//EN
METHOD:PUBLISH
CALSCALE:GREGORIAN
REFRESH-INTERVAL:PT15M
X-PUBLISHED-TTL:PT15M
X-WR-CALNAME:Pogdesign
NAME:Pogdesign
BEGIN:VTIMEZONE
TZID:Europe/London
TZURL:http://tzurl.org/zoneinfo/Europe/London
X-LIC-LOCATION:Europe/London
BEGIN:DAYLIGHT
TZOFFSETFROM:+0000
TZOFFSETTO:+0100
TZNAME:BST
DTSTART:20220327T020000Z
RRULE:FREQ=YEARLY;BYMONTH=3;BYDAY=-1SU
END:DAYLIGHT
BEGIN:STANDARD
TZOFFSETFROM:+0100
TZOFFSETTO:+0000
TZNAME:GMT
DTSTART:20221030T020000Z
RRULE:FREQ=YEARLY;BYMONTH=10;BYDAY=-1SU
END:STANDARD
END:VTIMEZONE
BEGIN:VEVENT
SUMMARY:Walker Independence S01E05 - \nFriend of the Devil
DTSTAMP:20221021T204005Z
SEQUENCE:0
UID:151720-3-841ebed20eb198c4569419e99b7bf40a@themidnightzone.com
ORGANIZER;CN="Midnight":midnight@themidnightzone.com
DESCRIPTION:When an old friend rides into town\, Tom Davidson finds hims
	elfin the impossible position of helping a former partner in crimewhile ke
	eping up appearances as the town's new sheriff. Abbyand Kate's friendship 
	is put to the test as Abby facesuncomfortable questions about her deceased
	 husband while Gusand Calian reconnect and work together to pursue a new l
	ead inconnection to the murder of Abby's husband.
DTSTART:20221103T210000Z
DTEND:20221103T220000Z
END:VEVENT
END:VCALENDAR
