BEGIN:VCALENDAR
VERSION:2.0
PRODID:-//InvisionCommunity Events 4.7.23//EN
METHOD:PUBLISH
CALSCALE:GREGORIAN
REFRESH-INTERVAL:PT15M
X-PUBLISHED-TTL:PT15M
X-WR-CALNAME:Pogdesign
NAME:Pogdesign
BEGIN:VTIMEZONE
TZID:Europe/London
TZURL:http://tzurl.org/zoneinfo/Europe/London
X-LIC-LOCATION:Europe/London
BEGIN:DAYLIGHT
TZOFFSETFROM:+0000
TZOFFSETTO:+0100
TZNAME:BST
DTSTART:20220327T020000Z
RRULE:FREQ=YEARLY;BYMONTH=3;BYDAY=-1SU
END:DAYLIGHT
BEGIN:STANDARD
TZOFFSETFROM:+0100
TZOFFSETTO:+0000
TZNAME:GMT
DTSTART:20221030T020000Z
RRULE:FREQ=YEARLY;BYMONTH=10;BYDAY=-1SU
END:STANDARD
END:VTIMEZONE
BEGIN:VEVENT
SUMMARY:The Pact S02E03 - \nSeries 2\, Episode 3
DTSTAMP:20221024T044006Z
SEQUENCE:0
UID:151839-3-841ebed20eb198c4569419e99b7bf40a@themidnightzone.com
ORGANIZER;CN="Midnight":midnight@themidnightzone.com
DESCRIPTION:Tensions are sky-high at Megan's wedding when Connor turns u
	puninvited and armed with damning information that Christine isdesperate t
	o keep hidden. Beth is adamant that the Rees'long-lost father is the key t
	o everything\, but every attemptto get information out of Christine and Ka
	te proves futile.After Jamie tells Connor he no longer wants him in his li
	fe\,Connor's attempt to mend their relationship forces Christine toshow ju
	st how far she's willing to go to protect her family.
DTSTART:20221107T160000Z
DTEND:20221107T170000Z
END:VEVENT
END:VCALENDAR
