BEGIN:VCALENDAR
VERSION:2.0
PRODID:-//InvisionCommunity Events 4.7.23//EN
METHOD:PUBLISH
CALSCALE:GREGORIAN
REFRESH-INTERVAL:PT15M
X-PUBLISHED-TTL:PT15M
X-WR-CALNAME:At My TV
NAME:At My TV
BEGIN:VTIMEZONE
TZID:Europe/London
TZURL:http://tzurl.org/zoneinfo/Europe/London
X-LIC-LOCATION:Europe/London
BEGIN:DAYLIGHT
TZOFFSETFROM:+0000
TZOFFSETTO:+0100
TZNAME:BST
DTSTART:20220327T020000Z
RRULE:FREQ=YEARLY;BYMONTH=3;BYDAY=-1SU
END:DAYLIGHT
BEGIN:STANDARD
TZOFFSETFROM:+0100
TZOFFSETTO:+0000
TZNAME:GMT
DTSTART:20221030T020000Z
RRULE:FREQ=YEARLY;BYMONTH=10;BYDAY=-1SU
END:STANDARD
END:VTIMEZONE
BEGIN:VEVENT
SUMMARY:All American 5x4 - Turn Down for What
DTSTAMP:20221025T083516Z
SEQUENCE:0
UID:151950-2-841ebed20eb198c4569419e99b7bf40a@themidnightzone.com
ORGANIZER;CN="Midnight":midnight@themidnightzone.com
DESCRIPTION:With Grace and Carter's wedding right around the corner\,ant
	ics ensue. While Denise and Laura kidnap Grace for asurprise bachelorette 
	party\, Preach and Billy take Carter outfor drinks\, and everyone ends the
	 night with more than theybargained for. JJ puts together another Vortex g
	ame night withSpencer\, Jordan\, Layla\, and Olivia that goes awry whensec
	rets are aired. Meanwhile\, Coop is coming to terms withsome disappointing
	 news.
DTSTART:20221108T010000Z
DTEND:20221108T020000Z
END:VEVENT
END:VCALENDAR
