BEGIN:VCALENDAR
VERSION:2.0
PRODID:-//InvisionCommunity Events 4.7.23//EN
METHOD:PUBLISH
CALSCALE:GREGORIAN
REFRESH-INTERVAL:PT15M
X-PUBLISHED-TTL:PT15M
X-WR-CALNAME:At My TV
NAME:At My TV
BEGIN:VTIMEZONE
TZID:Europe/London
TZURL:http://tzurl.org/zoneinfo/Europe/London
X-LIC-LOCATION:Europe/London
BEGIN:DAYLIGHT
TZOFFSETFROM:+0000
TZOFFSETTO:+0100
TZNAME:BST
DTSTART:20220327T020000Z
RRULE:FREQ=YEARLY;BYMONTH=3;BYDAY=-1SU
END:DAYLIGHT
BEGIN:STANDARD
TZOFFSETFROM:+0100
TZOFFSETTO:+0000
TZNAME:GMT
DTSTART:20221030T020000Z
RRULE:FREQ=YEARLY;BYMONTH=10;BYDAY=-1SU
END:STANDARD
END:VTIMEZONE
BEGIN:VEVENT
SUMMARY:Masterchef: The Professionals 15x1 - Episode 1
DTSTAMP:20221025T083517Z
SEQUENCE:0
UID:151961-2-841ebed20eb198c4569419e99b7bf40a@themidnightzone.com
ORGANIZER;CN="Midnight":midnight@themidnightzone.com
DESCRIPTION:New judge Anna Haugh\, Marcus Wareing and Gregg Wallace pres
	ideover the UK's most revered cooking competition\, as 32ambitious chefs f
	rom across the country compete to become the2022 champion.In tonight's ope
	ning heat\, the first fourprofessional chefs step into the MasterChef kitc
	hen. Toprogress in the competition\, they must impress in twochallenges: t
	he infamous Skills Test and the Signature Menuround.The first two chefs fa
	ce a Skills Test set by Anna\, whogives them 20 minutes to open oysters an
	d serve them poachedand smoked in a beurre blanc sauce. Can the chefs keep
	 theirhands steady enough to open the tricky shellfish without damageand d
	emonstrate enough classic cookery knowledge to show theyhave what it takes
	?The remaining two chefs are set a pastrySkills Test by Marcus. Their task
	 is to make a summer fruittart with jam\, crème pâtissière and piped It
	alian meringue.Who will be able to draw on their experience in pastry to p
	uttogether the well-executed and sublime dessert the judges arelooking for
	?Finally\, all four chefs have one last opportunityto stand out when they 
	cook their own two-course SignatureMenu. This is their chance to show off 
	their style and flairwith a tried and tested main course and dessert.Only 
	the bestchefs will go through to the quarter-final and move a stepcloser t
	o being crowned MasterChef: The Professionals champion2022.
DTSTART:20221102T210000Z
DTEND:20221102T220000Z
END:VEVENT
END:VCALENDAR
