BEGIN:VCALENDAR
VERSION:2.0
PRODID:-//InvisionCommunity Events 4.7.23//EN
METHOD:PUBLISH
CALSCALE:GREGORIAN
REFRESH-INTERVAL:PT15M
X-PUBLISHED-TTL:PT15M
X-WR-CALNAME:At My TV
NAME:At My TV
BEGIN:VTIMEZONE
TZID:Europe/London
TZURL:http://tzurl.org/zoneinfo/Europe/London
X-LIC-LOCATION:Europe/London
BEGIN:DAYLIGHT
TZOFFSETFROM:+0000
TZOFFSETTO:+0100
TZNAME:BST
DTSTART:20220327T020000Z
RRULE:FREQ=YEARLY;BYMONTH=3;BYDAY=-1SU
END:DAYLIGHT
BEGIN:STANDARD
TZOFFSETFROM:+0100
TZOFFSETTO:+0000
TZNAME:GMT
DTSTART:20221030T020000Z
RRULE:FREQ=YEARLY;BYMONTH=10;BYDAY=-1SU
END:STANDARD
END:VTIMEZONE
BEGIN:VEVENT
SUMMARY:Sherri 1x38 - Gina Yashere\, Justine Bateman
DTSTAMP:20221029T085521Z
SEQUENCE:0
UID:152321-2-841ebed20eb198c4569419e99b7bf40a@themidnightzone.com
ORGANIZER;CN="Midnight":midnight@themidnightzone.com
DESCRIPTION:Sherri offers her hilarious spin on the headlines!Then\, the
	hilarious comedian Gina Yashere drops by to talk about thesitcom series \"
	Bob Hearts Abishola\" on CBS.Plus\, filmmaker andauthor Justine Bateman gi
	ves Sherri a visit to talk about hernew book\, \"Face: One Square Foot of 
	Skin.\"
DTSTART:20221103T140000Z
DTEND:20221103T150000Z
END:VEVENT
END:VCALENDAR
