BEGIN:VCALENDAR
VERSION:2.0
PRODID:-//InvisionCommunity Events 4.7.23//EN
METHOD:PUBLISH
CALSCALE:GREGORIAN
REFRESH-INTERVAL:PT15M
X-PUBLISHED-TTL:PT15M
X-WR-CALNAME:At My TV
NAME:At My TV
BEGIN:VTIMEZONE
TZID:Europe/London
TZURL:http://tzurl.org/zoneinfo/Europe/London
X-LIC-LOCATION:Europe/London
BEGIN:DAYLIGHT
TZOFFSETFROM:+0000
TZOFFSETTO:+0100
TZNAME:BST
DTSTART:20220327T020000Z
RRULE:FREQ=YEARLY;BYMONTH=3;BYDAY=-1SU
END:DAYLIGHT
BEGIN:STANDARD
TZOFFSETFROM:+0100
TZOFFSETTO:+0000
TZNAME:GMT
DTSTART:20221030T020000Z
RRULE:FREQ=YEARLY;BYMONTH=10;BYDAY=-1SU
END:STANDARD
END:VTIMEZONE
BEGIN:VEVENT
SUMMARY:The Kelly Clarkson Show 4x39 - JB Smoove\, Aimee Garcia\,Cou
	rtney Marie Andrews\, Duff Goldman
DTSTAMP:20221029T085521Z
SEQUENCE:0
UID:152323-2-841ebed20eb198c4569419e99b7bf40a@themidnightzone.com
ORGANIZER;CN="Midnight":midnight@themidnightzone.com
DESCRIPTION:Kellyoke: \"Alibis\": JB Smoove: Aimee Garcia: Glass HalfFul
	l\; bargains and deals with Lawrence Zarian\; Duff Goldman'smeringue cooki
	e\; Courtney Marie Andrews performs.
DTSTART:20221103T040000Z
DTEND:20221103T050000Z
END:VEVENT
END:VCALENDAR
