BEGIN:VCALENDAR
VERSION:2.0
PRODID:-//InvisionCommunity Events 4.7.23//EN
METHOD:PUBLISH
CALSCALE:GREGORIAN
REFRESH-INTERVAL:PT15M
X-PUBLISHED-TTL:PT15M
X-WR-CALNAME:At My TV
NAME:At My TV
BEGIN:VTIMEZONE
TZID:Europe/London
TZURL:http://tzurl.org/zoneinfo/Europe/London
X-LIC-LOCATION:Europe/London
BEGIN:DAYLIGHT
TZOFFSETFROM:+0000
TZOFFSETTO:+0100
TZNAME:BST
DTSTART:20220327T020000Z
RRULE:FREQ=YEARLY;BYMONTH=3;BYDAY=-1SU
END:DAYLIGHT
BEGIN:STANDARD
TZOFFSETFROM:+0100
TZOFFSETTO:+0000
TZNAME:GMT
DTSTART:20221030T020000Z
RRULE:FREQ=YEARLY;BYMONTH=10;BYDAY=-1SU
END:STANDARD
END:VTIMEZONE
BEGIN:VEVENT
SUMMARY:Real Time with Bill Maher 20x34 - Jared Polis\, Robert Costa
	\,Ro Khanna
DTSTAMP:20221106T085510Z
SEQUENCE:0
UID:152856-2-841ebed20eb198c4569419e99b7bf40a@themidnightzone.com
ORGANIZER;CN="Midnight":midnight@themidnightzone.com
DESCRIPTION:This week features a one-on-one interview with DemocraticGov
	ernor of Colorado since January 2019\, who just wonreelection\, Jared Poli
	s. This week's panel discussion includeschief election and campaign corres
	pondent for CBS News andco-author of \"Peril\,\" Robert Costa\; and Democr
	aticCongressman representing California's 17th district and authorof \"Dig
	nity in a Digital Age: Making Tech Work For All Of Us\,\"Ro Khanna.\n\n 
DTSTART:20221112T030000Z
DTEND:20221112T040000Z
END:VEVENT
END:VCALENDAR
