BEGIN:VCALENDAR
VERSION:2.0
PRODID:-//InvisionCommunity Events 4.7.23//EN
METHOD:PUBLISH
CALSCALE:GREGORIAN
REFRESH-INTERVAL:PT15M
X-PUBLISHED-TTL:PT15M
X-WR-CALNAME:At My TV
NAME:At My TV
BEGIN:VTIMEZONE
TZID:Europe/London
TZURL:http://tzurl.org/zoneinfo/Europe/London
X-LIC-LOCATION:Europe/London
BEGIN:DAYLIGHT
TZOFFSETFROM:+0000
TZOFFSETTO:+0100
TZNAME:BST
DTSTART:20220327T020000Z
RRULE:FREQ=YEARLY;BYMONTH=3;BYDAY=-1SU
END:DAYLIGHT
BEGIN:STANDARD
TZOFFSETFROM:+0100
TZOFFSETTO:+0000
TZNAME:GMT
DTSTART:20221030T020000Z
RRULE:FREQ=YEARLY;BYMONTH=10;BYDAY=-1SU
END:STANDARD
END:VTIMEZONE
BEGIN:VEVENT
SUMMARY:Masterchef: The Professionals 15x10 - Episode 10
DTSTAMP:20221111T085506Z
SEQUENCE:0
UID:153172-2-841ebed20eb198c4569419e99b7bf40a@themidnightzone.com
ORGANIZER;CN="Midnight":midnight@themidnightzone.com
DESCRIPTION:It's the last week of heats\, and four more ambitious chefs 
	setout to prove they have what it takes to win the title. In orderto progr
	ess in the competition\, they must impress in adaunting Skills Test and th
	en cook two dishes of their owncreation in the Signature Menu round. Only 
	the chefs who candemonstrate the all-round skills\, technique and flair of
	 afuture champion will make it through to the quarter-final.Twochefs are s
	et a Skills Test by Marcus Wareing\, who asks themto fillet a sea bream\, 
	steam one portion and serve it with anAsian-style broth and rice. Anna Hau
	gh tests the skills of theother two chefs when she asks them to make beetr
	oot tortelliniwith a goat's cheese and walnut filling\, served with warmbe
	etroot vinaigrette.Finally\, the four chefs have one lastchance to win ove
	r the judges when they each cook theirtwo-course Signature Menu. They have
	 one hour and 30 minutes toperfectly execute their tried and tested recipe
	s for Anna\,Marcus and Gregg. They must deliver on presentation\, techniqu
	eand taste if they want to secure their future in thecompetition. The two 
	weakest contenders will be sent home.
DTSTART:20221123T211000Z
DTEND:20221123T221000Z
END:VEVENT
END:VCALENDAR
