BEGIN:VCALENDAR
VERSION:2.0
PRODID:-//InvisionCommunity Events 4.7.23//EN
METHOD:PUBLISH
CALSCALE:GREGORIAN
REFRESH-INTERVAL:PT15M
X-PUBLISHED-TTL:PT15M
X-WR-CALNAME:At My TV
NAME:At My TV
BEGIN:VTIMEZONE
TZID:Europe/London
TZURL:http://tzurl.org/zoneinfo/Europe/London
X-LIC-LOCATION:Europe/London
BEGIN:DAYLIGHT
TZOFFSETFROM:+0000
TZOFFSETTO:+0100
TZNAME:BST
DTSTART:20230326T020000Z
RRULE:FREQ=YEARLY;BYMONTH=3;BYDAY=-1SU
END:DAYLIGHT
BEGIN:STANDARD
TZOFFSETFROM:+0100
TZOFFSETTO:+0000
TZNAME:GMT
DTSTART:20231029T020000Z
RRULE:FREQ=YEARLY;BYMONTH=10;BYDAY=-1SU
END:STANDARD
END:VTIMEZONE
BEGIN:VEVENT
SUMMARY:Live with Kelly & Ryan 255x53 - Keira Knightley\, NicholasBr
	aun\, Dr. Becky Kennedy
DTSTAMP:20221111T085506Z
SEQUENCE:0
UID:153197-2-841ebed20eb198c4569419e99b7bf40a@themidnightzone.com
ORGANIZER;CN="Midnight":midnight@themidnightzone.com
DESCRIPTION:Kelly and Ryan interview actress KEIRA KNIGHTLEY about theup
	coming film \"Boston Strangler.\" Plus\, actor NICHOLAS BRAUNunpacks what 
	to expect on season four of \"Succession\,\" and DR.BECKY KENNEDY gives ad
	vice on how to deal with sleep strugglesand children with anxiety as part 
	of \"Live's Sleep Week.\"
DTSTART:20230315T130000Z
DTEND:20230315T140000Z
END:VEVENT
END:VCALENDAR
