BEGIN:VCALENDAR
VERSION:2.0
PRODID:-//InvisionCommunity Events 4.7.23//EN
METHOD:PUBLISH
CALSCALE:GREGORIAN
REFRESH-INTERVAL:PT15M
X-PUBLISHED-TTL:PT15M
X-WR-CALNAME:Pogdesign
NAME:Pogdesign
BEGIN:VTIMEZONE
TZID:Europe/London
TZURL:http://tzurl.org/zoneinfo/Europe/London
X-LIC-LOCATION:Europe/London
BEGIN:DAYLIGHT
TZOFFSETFROM:+0000
TZOFFSETTO:+0100
TZNAME:BST
DTSTART:20220327T020000Z
RRULE:FREQ=YEARLY;BYMONTH=3;BYDAY=-1SU
END:DAYLIGHT
BEGIN:STANDARD
TZOFFSETFROM:+0100
TZOFFSETTO:+0000
TZNAME:GMT
DTSTART:20221030T020000Z
RRULE:FREQ=YEARLY;BYMONTH=10;BYDAY=-1SU
END:STANDARD
END:VTIMEZONE
BEGIN:VEVENT
SUMMARY:Home Economics S03E09 - \nSunday New York Times\, 
DTSTAMP:20221117T050003Z
SEQUENCE:0
UID:153465-3-841ebed20eb198c4569419e99b7bf40a@themidnightzone.com
ORGANIZER;CN="Midnight":midnight@themidnightzone.com
DESCRIPTION:The success of Tom's book sparks a change in the financialti
	des\; and\, with the extra cash in hand\, Marina encourageshim to spend so
	me money on himself. Meanwhile\, Denise'sparents shake things up during th
	eir visit to town. With theirreveal of some surprising news\, an unexpecte
	d Hayworth comesto her rescue.
DTSTART:20221130T203000Z
DTEND:20221130T210000Z
END:VEVENT
END:VCALENDAR
