BEGIN:VCALENDAR
VERSION:2.0
PRODID:-//InvisionCommunity Events 4.7.23//EN
METHOD:PUBLISH
CALSCALE:GREGORIAN
REFRESH-INTERVAL:PT15M
X-PUBLISHED-TTL:PT15M
X-WR-CALNAME:At My TV
NAME:At My TV
BEGIN:VTIMEZONE
TZID:Europe/London
TZURL:http://tzurl.org/zoneinfo/Europe/London
X-LIC-LOCATION:Europe/London
BEGIN:DAYLIGHT
TZOFFSETFROM:+0000
TZOFFSETTO:+0100
TZNAME:BST
DTSTART:20240331T020000Z
RRULE:FREQ=YEARLY;BYMONTH=3;BYDAY=-1SU
END:DAYLIGHT
BEGIN:STANDARD
TZOFFSETFROM:+0100
TZOFFSETTO:+0000
TZNAME:GMT
DTSTART:20241027T020000Z
RRULE:FREQ=YEARLY;BYMONTH=10;BYDAY=-1SU
END:STANDARD
END:VTIMEZONE
BEGIN:VEVENT
SUMMARY:Diners\, Drive-Ins and Dives 255x26 - Funky Fresh
DTSTAMP:20221125T085500Z
SEQUENCE:0
UID:154042-2-841ebed20eb198c4569419e99b7bf40a@themidnightzone.com
ORGANIZER;CN="Midnight":midnight@themidnightzone.com
DESCRIPTION:This trip\, Guy Fieri's fillin' up on fresh-and-funky flavor
	s.It's a passport to Italy in Chicago\, with scratch-made pastain the fron
	t window and serving out-of-bounds burrata tortelliand indulgent duck papp
	ardelle. Then\, a Missoula\, Mont.\,husband-and-wife team is getting creat
	ive between the breadwith the-bomb banh mi smash burger and buttermilk-bri
	ned friedchicken with sweet-and-spicy smoke. Plus\, a pair of brothersis g
	oing farm-to-table in Tallahassee\, Fla.\, platin' upSouthern classics lik
	e craveable crab cakes\, corn fritters\,catfish and collards.
DTSTART:20241228T020000Z
DTEND:20241228T023000Z
END:VEVENT
END:VCALENDAR
