BEGIN:VCALENDAR
VERSION:2.0
PRODID:-//InvisionCommunity Events 4.7.23//EN
METHOD:PUBLISH
CALSCALE:GREGORIAN
REFRESH-INTERVAL:PT15M
X-PUBLISHED-TTL:PT15M
X-WR-CALNAME:At My TV
NAME:At My TV
BEGIN:VTIMEZONE
TZID:Europe/London
TZURL:http://tzurl.org/zoneinfo/Europe/London
X-LIC-LOCATION:Europe/London
BEGIN:DAYLIGHT
TZOFFSETFROM:+0000
TZOFFSETTO:+0100
TZNAME:BST
DTSTART:20220327T020000Z
RRULE:FREQ=YEARLY;BYMONTH=3;BYDAY=-1SU
END:DAYLIGHT
BEGIN:STANDARD
TZOFFSETFROM:+0100
TZOFFSETTO:+0000
TZNAME:GMT
DTSTART:20221030T020000Z
RRULE:FREQ=YEARLY;BYMONTH=10;BYDAY=-1SU
END:STANDARD
END:VTIMEZONE
BEGIN:VEVENT
SUMMARY:Masterchef: The Professionals 15x18 - Episode 18
DTSTAMP:20221127T085500Z
SEQUENCE:0
UID:154119-2-841ebed20eb198c4569419e99b7bf40a@themidnightzone.com
ORGANIZER;CN="Midnight":midnight@themidnightzone.com
DESCRIPTION:After six weeks of fierce competition\, only the three bestc
	hefs remain. Tonight\, they have the chance to cook themselvesinto the Mas
	terChef history books as they battle it out for thefinal time in the most 
	important cook-off of their career.Thesethree exceptional chefs\, who have
	 already cooked someoutstanding\, original and breathtaking plates of food
	 to reachthe final\, face one last challenge: to cook the three mostspecta
	cular courses of their lives for the MasterChef judges.In three hours\, th
	ey must bring together a starter\, a mainand a dessert of their own creati
	on\, surpassing all theculinary ability\, technique and knowledge they hav
	edemonstrated to so far and impressing on a whole new scale.Asthe tension 
	builds in the kitchen\, they pour their hearts andsouls into every plate o
	f food. Nothing but perfect execution\,mind-blowing flavours and jaw-dropp
	ing presentation will winthem the trophy. The pressure is massive\, and wh
	en the stakesare this high\, any error could cost them. But if they candel
	iver\, it could change their lives forever\, when one ofthem is crowned Ma
	sterChef: The Professionals champion 2022.
DTSTART:20221211T181500Z
DTEND:20221211T191500Z
END:VEVENT
END:VCALENDAR
