BEGIN:VCALENDAR
VERSION:2.0
PRODID:-//InvisionCommunity Events 4.7.23//EN
METHOD:PUBLISH
CALSCALE:GREGORIAN
REFRESH-INTERVAL:PT15M
X-PUBLISHED-TTL:PT15M
X-WR-CALNAME:At My TV
NAME:At My TV
BEGIN:VTIMEZONE
TZID:Europe/London
TZURL:http://tzurl.org/zoneinfo/Europe/London
X-LIC-LOCATION:Europe/London
BEGIN:DAYLIGHT
TZOFFSETFROM:+0000
TZOFFSETTO:+0100
TZNAME:BST
DTSTART:20220327T020000Z
RRULE:FREQ=YEARLY;BYMONTH=3;BYDAY=-1SU
END:DAYLIGHT
BEGIN:STANDARD
TZOFFSETFROM:+0100
TZOFFSETTO:+0000
TZNAME:GMT
DTSTART:20221030T020000Z
RRULE:FREQ=YEARLY;BYMONTH=10;BYDAY=-1SU
END:STANDARD
END:VTIMEZONE
BEGIN:VEVENT
SUMMARY:Saturday Night Live 48x8 - Steve Martin & Martin Short / Bra
	ndiCarlile
DTSTAMP:20221130T085456Z
SEQUENCE:0
UID:154278-2-841ebed20eb198c4569419e99b7bf40a@themidnightzone.com
ORGANIZER;CN="Midnight":midnight@themidnightzone.com
DESCRIPTION:Steve Martin and Martin Short co-host \"SNL\" together on De
	c.10. They currently star in Hulu's \"Only Murders in theBuilding\" and re
	sume their \"You Won't Believe What They LookLike Today!\" tour next year.
	Brandi Carlile returns for hersecond time as musical guest. Her newest alb
	um\, \"In TheseSilent Days\,\" just earned seven Grammy nominations.
DTSTART:20221211T042900Z
DTEND:20221211T055900Z
END:VEVENT
END:VCALENDAR
