BEGIN:VCALENDAR
VERSION:2.0
PRODID:-//InvisionCommunity Events 4.7.23//EN
METHOD:PUBLISH
CALSCALE:GREGORIAN
REFRESH-INTERVAL:PT15M
X-PUBLISHED-TTL:PT15M
X-WR-CALNAME:At My TV
NAME:At My TV
BEGIN:VTIMEZONE
TZID:Europe/London
TZURL:http://tzurl.org/zoneinfo/Europe/London
X-LIC-LOCATION:Europe/London
BEGIN:DAYLIGHT
TZOFFSETFROM:+0000
TZOFFSETTO:+0100
TZNAME:BST
DTSTART:20220327T020000Z
RRULE:FREQ=YEARLY;BYMONTH=3;BYDAY=-1SU
END:DAYLIGHT
BEGIN:STANDARD
TZOFFSETFROM:+0100
TZOFFSETTO:+0000
TZNAME:GMT
DTSTART:20221030T020000Z
RRULE:FREQ=YEARLY;BYMONTH=10;BYDAY=-1SU
END:STANDARD
END:VTIMEZONE
BEGIN:VEVENT
SUMMARY:The Drew Barrymore Show 255x120 - Mindy Kaling
DTSTAMP:20221205T085453Z
SEQUENCE:0
UID:154522-2-841ebed20eb198c4569419e99b7bf40a@themidnightzone.com
ORGANIZER;CN="Midnight":midnight@themidnightzone.com
DESCRIPTION:Actress and producer Mindy Kaling dishes on how she's gearin
	gup for the holidays with her two young children\, her new bookstudio and 
	more. Plus\, Mindy is sharing behind-the-scenesfacts from some of the show
	s she's produced and starred in\,including \"The Office\" and \"Oceans 8.\
	" In an all-new Drew'sNews\, Drew and Ross Mathews are covering the scienc
	e behindhitting the snooze button\, the debate on ghosting someoneyou're d
	ating and a New York City deli that was saved afternearly closing. Pilar 
	Valdes and Drew are sharing a moneysaving holiday meal perfect for a crowd
	. Drew and Ross Mathewsare hitting the headlines and discussing the new gr
	oup that isempowering single moms and which movie Director Greta Gerwigtho
	ught would be a career-ender. Plus\, in an all-newDrew-crime segment\, Dre
	w is talking to a an 82-year-old and a76-year-old great grandma that stopp
	ed a purse snatcher in histracks. 
DTSTART:20221207T050000Z
DTEND:20221207T060000Z
END:VEVENT
END:VCALENDAR
