BEGIN:VCALENDAR
VERSION:2.0
PRODID:-//InvisionCommunity Events 4.7.23//EN
METHOD:PUBLISH
CALSCALE:GREGORIAN
REFRESH-INTERVAL:PT15M
X-PUBLISHED-TTL:PT15M
X-WR-CALNAME:At My TV
NAME:At My TV
BEGIN:VTIMEZONE
TZID:Europe/London
TZURL:http://tzurl.org/zoneinfo/Europe/London
X-LIC-LOCATION:Europe/London
BEGIN:DAYLIGHT
TZOFFSETFROM:+0000
TZOFFSETTO:+0100
TZNAME:BST
DTSTART:20220327T020000Z
RRULE:FREQ=YEARLY;BYMONTH=3;BYDAY=-1SU
END:DAYLIGHT
BEGIN:STANDARD
TZOFFSETFROM:+0100
TZOFFSETTO:+0000
TZNAME:GMT
DTSTART:20221030T020000Z
RRULE:FREQ=YEARLY;BYMONTH=10;BYDAY=-1SU
END:STANDARD
END:VTIMEZONE
BEGIN:VEVENT
SUMMARY:The Drew Barrymore Show 255x119 - Adam Sandler
DTSTAMP:20221205T085453Z
SEQUENCE:0
UID:154526-2-841ebed20eb198c4569419e99b7bf40a@themidnightzone.com
ORGANIZER;CN="Midnight":midnight@themidnightzone.com
DESCRIPTION:Drew is taking her good friend Adam Sandler for a ride in th
	e\"Drewber\" and grilling him on the one movie that defines himmost and wh
	ether they'll do a movie together again. Drew andRoss Mathews are hitting 
	the headlines\, revealing the onescene in \"Love Actually\" that Hugh Gra
	nt hated shooting. Plus\,Drew and Ross are covering a simple hack for upgr
	ading yourboots for winter. The Twins that Cook are joining Drew in theki
	tchen to make smores cookies. Drew and Ross Mathews areserving the news su
	nny side up covering Antonio Banderas' pickas his \"Zorro\" successor and 
	Merriam-Webster's word of theyear. Drew and Ross are sharing their weekend
	 guide\, includingwhat to read\, what to watch\, and what to follow on soc
	ialmedia. 
DTSTART:20221206T050000Z
DTEND:20221206T060000Z
END:VEVENT
END:VCALENDAR
